BEGIN:VCALENDAR
VERSION:2.0
PRODID:-//ChamberMaster//Event Calendar 2.0//EN
METHOD:PUBLISH
X-PUBLISHED-TTL:P3D
REFRESH-INTERVAL:P3D
CALSCALE:GREGORIAN
BEGIN:VEVENT
DTSTART:20210223T140000Z
DTEND:20210223T150000Z
X-MICROSOFT-CDO-ALLDAYEVENT:FALSE
SUMMARY:Coffee with the Chamber: New Orientation & Refresher
DESCRIPTION:Are you a new member or a new company representative of the Knox County Chamber of Commerce? \n\nThis virtual orientation will help explain what your membership is all about and answer any questions that you might have. Attendees will receive information about the Chamber's structure\, events\, community involvement\, member benefits and resources\, advocacy and more.\n\n\n\nExisting members are welcome to attend as a refresher course on benefits!   \n\n\n\n"All attendees will receive a FREE entry into a drawing for a Gift Card!
X-ALT-DESC;FMTTYPE=text/html:<span style="color:#222222\;"><span style="font-family:verdana\,sans-serif\;"><span style="font-size:10.5pt\;">Are you a new member or a new company representative of the Knox County Chamber of Commerce?&nbsp\;<br />\nThis virtual orientation will help explain what your membership is all about and answer any questions that you might have.&nbsp\;Attendees will receive information about the Chamber&#39\;s structure\, events\, community involvement\, member benefits and resources\, advocacy and more.<br />\n<br />\n<strong>Existing members are welcome to attend as a refresher course on benefits!&nbsp\; &nbsp\;</strong></span></span></span><br />\n<br />\n<span style="color:#B22222\;"><span style="font-family:verdana\,sans-serif\;"><span style="font-size:10.5pt\;">&quot\;All attendees will receive a FREE entry into a drawing for a Gift Card!</span></span></span>
LOCATION:This event will be hosted on ZOOM and you will receive the link after registering
UID:e.2893.4824
SEQUENCE:3
DTSTAMP:20260420T043834Z
URL:http://knoxchamber.smartcms.site/events/details/coffee-with-the-chamber-new-orientation-refresher-4824
END:VEVENT

END:VCALENDAR
