BEGIN:VCALENDAR
VERSION:2.0
PRODID:-//ChamberMaster//Event Calendar 2.0//EN
METHOD:PUBLISH
X-PUBLISHED-TTL:P3D
REFRESH-INTERVAL:P3D
CALSCALE:GREGORIAN
BEGIN:VEVENT
DTSTART:20181204T160000Z
DTEND:20181204T170000Z
X-MICROSOFT-CDO-ALLDAYEVENT:FALSE
SUMMARY:Coffee With a Cop
DESCRIPTION:Knox County Health Department invites you to meet your local law officers as the Station Break Senior Center hosts Coffee With a Cop.  The event begins at 11am on December 4 and is free of charge.
X-ALT-DESC;FMTTYPE=text/html:<span style="color: rgb(178\, 34\, 34)\;"><em><strong>Knox County Health Department</strong></em></span> invites you to meet your local law officers as the Station Break Senior Center hosts Coffee With a Cop.&nbsp\; The event begins at 11am on December 4 and is free of charge.
LOCATION:Station Break Cenior Center 160 Howard Street\, Mount Vernon
UID:e.2893.3854
SEQUENCE:3
DTSTAMP:20260421T213329Z
URL:http://knoxchamber.smartcms.site/events/details/coffee-with-a-cop-3854
END:VEVENT

END:VCALENDAR
