BEGIN:VCALENDAR
VERSION:2.0
PRODID:-//ChamberMaster//Event Calendar 2.0//EN
METHOD:PUBLISH
X-PUBLISHED-TTL:P3D
REFRESH-INTERVAL:P3D
CALSCALE:GREGORIAN
BEGIN:VEVENT
DTSTART:20181003T160000Z
DTEND:20181031T160000Z
X-MICROSOFT-CDO-ALLDAYEVENT:FALSE
SUMMARY:Coats for Kids
DESCRIPTION:The Peoples Bank on Newark Road is a drop off location for Coats for Kids.  Any size jacket\, coats\, and outerwear is appreciated to help keep our families warm this winter.
X-ALT-DESC;FMTTYPE=text/html:<span style="color:#B22222\;"><em>The Peoples Bank</em></span> on Newark Road is a drop off location for Coats for Kids.&nbsp\; Any size jacket\, coats\, and outerwear is appreciated to help keep our families warm this winter.&nbsp\;&nbsp\;
LOCATION:Peoples Bank Newark Road
UID:e.2893.3822
SEQUENCE:3
DTSTAMP:20260422T010741Z
URL:http://knoxchamber.smartcms.site/events/details/coats-for-kids-3822
END:VEVENT

END:VCALENDAR
