BEGIN:VCALENDAR
VERSION:2.0
PRODID:-//ChamberMaster//Event Calendar 2.0//EN
METHOD:PUBLISH
X-PUBLISHED-TTL:P3D
REFRESH-INTERVAL:P3D
CALSCALE:GREGORIAN
BEGIN:VEVENT
DTSTART:20190330T180000Z
DTEND:20190330T200000Z
X-MICROSOFT-CDO-ALLDAYEVENT:FALSE
SUMMARY:Climate Reality
DESCRIPTION:Meet at the BFEC Resource Center. Director of Green Initiatives\, Dave Heithaus\, will share facts\, figures\, and images illustrating the impacts of global climate change and discuss actions that might prevent the worst of our potential futures.
X-ALT-DESC;FMTTYPE=text/html:Meet at the BFEC Resource Center. Director of Green Initiatives\, Dave Heithaus\, will share facts\, figures\, and images illustrating the impacts of global climate change and discuss actions that might prevent the worst of our potential futures.
LOCATION:Brown Family Environmental Cener 9871 Laymon Rd. Gambier\, OH 43022
UID:e.2893.3865
SEQUENCE:3
DTSTAMP:20260421T164325Z
URL:http://knoxchamber.smartcms.site/events/details/climate-reality-3865
END:VEVENT

END:VCALENDAR
