BEGIN:VCALENDAR
VERSION:2.0
PRODID:-//ChamberMaster//Event Calendar 2.0//EN
METHOD:PUBLISH
X-PUBLISHED-TTL:P3D
REFRESH-INTERVAL:P3D
CALSCALE:GREGORIAN
BEGIN:VEVENT
DTSTART:20170330T230000Z
DTEND:20170331T010000Z
X-MICROSOFT-CDO-ALLDAYEVENT:FALSE
SUMMARY:Climate Change: What Is It and Can We Stop It?
DESCRIPTION:Global Climate change is widely acknowledged to be the defining challenge of our time.  Its impacts ripple through the environmental\, social\, and economic fabric of societies across the planet.  What is it\, where is it headed and how can we act to limit its progress?  Join us for a sobering primer and some hints at a silver lining on what is\, arguably\, a very dark cloud.
X-ALT-DESC;FMTTYPE=text/html:Global Climate change is widely acknowledged to be the defining challenge of our time.&nbsp\; Its impacts ripple through the environmental\, social\, and economic fabric of societies across the planet.&nbsp\; What is it\, where is it headed and how can we act to limit its progress?&nbsp\; Join us for a sobering primer and some hints at a silver lining on what is\, arguably\, a very dark cloud.
LOCATION:Brown Family Environmental Center 9781 Laymon Road. Gambier\, OH 43022
UID:e.2893.964
SEQUENCE:3
DTSTAMP:20260423T112143Z
URL:http://knoxchamber.smartcms.site/events/details/climate-change-what-is-it-and-can-we-stop-it-964
END:VEVENT

END:VCALENDAR
