BEGIN:VCALENDAR
VERSION:2.0
PRODID:-//ChamberMaster//Event Calendar 2.0//EN
METHOD:PUBLISH
X-PUBLISHED-TTL:P3D
REFRESH-INTERVAL:P3D
CALSCALE:GREGORIAN
BEGIN:VEVENT
DTSTART:20190713T170000Z
DTEND:20190713T210000Z
X-MICROSOFT-CDO-ALLDAYEVENT:FALSE
SUMMARY:Clay Art Workshops: Visual Echoes of Nature
DESCRIPTION:During this 3-part series of hands-on workshops\, local artist Marty Huehner will lead participants through the process of collecting natural items\, making a clay "negative" and then making a clay "positive" to create an artistic piece. Marty will fire tiles outside of class time at his studio. During the final session\, participants will use watercolor paints or natural pigments to paint their tile(s)\, and if you choose\, you will mount your pieces on a background of your choice. Marty's art exhibit\, which is currently on display at the BFEC\, includes fired clay pieces similar to what will be constructed during these workshops. His process\, called the Clay Camera \, involves producing a "negative" from a natural texture and then using it to create "positive" images that are enhanced with ceramic stains and glazes. The positive prints are then used to build larger\, more complex syntheses. Participants should plan to attend all 3 sessions: June 29\, July 13\, and July 20\; 1:00 p.m. to 5:00 p.m. Materials fee: $30. Participants should bring a pizza box for storing clay pieces\, and if you wish\, something upon which you will mount the final fired/painted piece. Seating is limited. Call now to reserve your seat 740-427-5052.
X-ALT-DESC;FMTTYPE=text/html:During this 3-part series of hands-on workshops\, local artist Marty Huehner will lead participants through the process of collecting natural items\, making a clay &ldquo\;negative&rdquo\; and then making a clay &ldquo\;positive&rdquo\; to create an artistic piece. Marty will fire tiles outside of class time at his studio. During the final session\, participants will use watercolor paints or natural pigments to paint their tile(s)\, and if you choose\, you will mount your pieces on a background of your choice. Marty&rsquo\;s art exhibit\, which is currently on display at the BFEC\, includes fired clay pieces similar to what will be constructed during these workshops. His process\, called the Clay Camera&copy\;\, involves producing a &ldquo\;negative&quot\; from a natural texture and then using it to create &ldquo\;positive&rdquo\; images that are enhanced with ceramic stains and glazes. The positive prints are then used to build larger\, more complex syntheses. Participants should plan to attend all 3 sessions: June 29\, July 13\, and July 20\; 1:00 p.m. to 5:00 p.m. Materials fee: $30. Participants should bring a pizza box for storing clay pieces\, and if you wish\, something upon which you will mount the final fired/painted piece. Seating is limited. Call now to reserve your seat 740-427-5052.
LOCATION:Brown Family Environmental Center
UID:e.2893.4341
SEQUENCE:3
DTSTAMP:20260421T085514Z
URL:http://knoxchamber.smartcms.site/events/details/clay-art-workshops-visual-echoes-of-nature-07-13-2019-4341
END:VEVENT

END:VCALENDAR
