BEGIN:VCALENDAR
VERSION:2.0
PRODID:-//ChamberMaster//Event Calendar 2.0//EN
METHOD:PUBLISH
X-PUBLISHED-TTL:P3D
REFRESH-INTERVAL:P3D
CALSCALE:GREGORIAN
BEGIN:VEVENT
DTSTART:20190412T140000Z
DTEND:20190412T220000Z
X-MICROSOFT-CDO-ALLDAYEVENT:FALSE
SUMMARY:Clarks Trunk Show
DESCRIPTION:All Clarks shoe will be on sales . Plus get an extra 20% off your Clarks purchase. One person will win a free pair of Clark shoe that day
X-ALT-DESC;FMTTYPE=text/html:All Clarks shoe will be on sales . Plus get an extra 20% off your Clarks purchase. One person will win a free pair of Clark shoe that day
LOCATION:Shoe Sensation 1005 Coshocton Ave \,Mt Vernon\, Ohio\,43050
UID:e.2893.4268
SEQUENCE:3
DTSTAMP:20260421T164501Z
URL:http://knoxchamber.smartcms.site/events/details/clarks-trunk-show-4268
END:VEVENT

END:VCALENDAR
