BEGIN:VCALENDAR
VERSION:2.0
PRODID:-//ChamberMaster//Event Calendar 2.0//EN
METHOD:PUBLISH
X-PUBLISHED-TTL:P3D
REFRESH-INTERVAL:P3D
CALSCALE:GREGORIAN
BEGIN:VEVENT
DTSTART:20191215T120000Z
DTEND:20191215T210000Z
X-MICROSOFT-CDO-ALLDAYEVENT:FALSE
SUMMARY:Christmas Bird Count
DESCRIPTION:The Christmas Bird Count is a long-standing national initiative. Help us count birds in different areas of Knox County. Volunteers are needed at home feeders\, and in the field. Lunch provided at noon at the BFEC for all participants. Call 740-427-5052 or email jordan2@kenyon.edu to register
X-ALT-DESC;FMTTYPE=text/html:The Christmas Bird Count is a long-standing national initiative. Help us count birds in different areas of Knox County. Volunteers are needed at home feeders\, and in the field. Lunch provided at noon at the BFEC for all participants. Call 740-427-5052 or email jordan2@kenyon.edu to register
LOCATION:
UID:e.2893.4483
SEQUENCE:3
DTSTAMP:20260421T004828Z
URL:http://knoxchamber.smartcms.site/events/details/christmas-bird-count-12-15-2019-4483
END:VEVENT

END:VCALENDAR
