BEGIN:VCALENDAR
VERSION:2.0
PRODID:-//ChamberMaster//Event Calendar 2.0//EN
METHOD:PUBLISH
X-PUBLISHED-TTL:P3D
REFRESH-INTERVAL:P3D
CALSCALE:GREGORIAN
BEGIN:VEVENT
DTSTART:20200912T140000Z
DTEND:20200912T170000Z
X-MICROSOFT-CDO-ALLDAYEVENT:FALSE
SUMMARY:Choose Your Own Adventure: A Fantastical Journey
DESCRIPTION:(to Celebrate Philander Chase Conservancy's 20th Anniversary and BFEC's 25th Anniversary) SEPTEMBER 12\, 10:00   1:00 P.M.   GENERAL PUBLIC ONLY Hear ye\, hear ye! Adventurers of any age\, let it be known that on the 12th of September the Brown Family Environmental Center\, the Philander Chase Conservancy\, and the Kokosing Nature Preserve will host a "Choose Your Own Adventure" event that plays out across our lands! During your adventure\, you will locate several waypoints at your leisure\, with an estimated duration of 2 hours. General public: check-in will take place in-person at the BFEC Picnic Pavilion from 10:00 to 11:00 a.m. You will need a car. At the check-in table\, you will receive all the information you need to proceed. You can work alone or in friend/family groups\; children must be accompanied by an adult\; social distancing is expected\; a mask is required in the event that you run into other adventurers.
X-ALT-DESC;FMTTYPE=text/html:(to Celebrate Philander Chase Conservancy&rsquo\;s 20th Anniversary and BFEC&rsquo\;s 25th Anniversary) SEPTEMBER 12\, 10:00 &ndash\; 1:00 P.M. &ndash\; GENERAL PUBLIC ONLY Hear ye\, hear ye! Adventurers of any age\, let it be known that on the 12th of September the Brown Family Environmental Center\, the Philander Chase Conservancy\, and the Kokosing Nature Preserve will host a &ldquo\;Choose Your Own Adventure&rdquo\; event that plays out across our lands! During your adventure\, you will locate several waypoints at your leisure\, with an estimated duration of 2 hours. General public: check-in will take place in-person at the BFEC Picnic Pavilion from 10:00 to 11:00 a.m. You will need a car. At the check-in table\, you will receive all the information you need to proceed. You can work alone or in friend/family groups\; children must be accompanied by an adult\; social distancing is expected\; a mask is required in the event that you run into other adventurers.
LOCATION:Brown Family Environmental Center
UID:e.2893.4798
SEQUENCE:3
DTSTAMP:20260420T123657Z
URL:http://knoxchamber.smartcms.site/events/details/choose-your-own-adventure-a-fantastical-journey-4798
END:VEVENT

END:VCALENDAR
