BEGIN:VCALENDAR
VERSION:2.0
PRODID:-//ChamberMaster//Event Calendar 2.0//EN
METHOD:PUBLISH
X-PUBLISHED-TTL:P3D
REFRESH-INTERVAL:P3D
CALSCALE:GREGORIAN
BEGIN:VEVENT
DTSTART;VALUE=DATE:20180524
DTEND;VALUE=DATE:20180525
TRANSP:TRANSPARENT
X-MICROSOFT-CDO-ALLDAYEVENT:TRUE
SUMMARY:Children's Garden Grand Re-Opening
DESCRIPTION:Grand Re-opening of the Ray Richardson Children's Garden\n\n12 Pm
X-ALT-DESC;FMTTYPE=text/html:Grand Re-opening of the Ray Richardson Children&#39\;s Garden<br />\n12 Pm
LOCATION:Knox County Career Center 306 Martinsburg Road Mount Vernon Ohio
UID:e.2893.3658
SEQUENCE:3
DTSTAMP:20260422T092658Z
URL:http://knoxchamber.smartcms.site/events/details/children-s-garden-grand-re-opening-3658
END:VEVENT

END:VCALENDAR
