BEGIN:VCALENDAR
VERSION:2.0
PRODID:-//ChamberMaster//Event Calendar 2.0//EN
METHOD:PUBLISH
X-PUBLISHED-TTL:P3D
REFRESH-INTERVAL:P3D
CALSCALE:GREGORIAN
BEGIN:VEVENT
DTSTART:20170610T140000Z
DTEND:20170611T053000Z
X-MICROSOFT-CDO-ALLDAYEVENT:FALSE
SUMMARY:Charity Poker Run benefiting Special Olympics
DESCRIPTION:Fire and Iron will be hosting its 6th annual Poker run benefiting Knox County Special Olympics. Even if you don't ride come out and join in on the 50/50\, Silent Auction\, Food\, and Live music after the ride.
X-ALT-DESC;FMTTYPE=text/html:Fire and Iron will be hosting its 6th annual Poker run benefiting Knox County Special Olympics. Even if you don&#39\;t ride come out and join in on the 50/50\, Silent Auction\, Food\, and Live music after the ride.
LOCATION:Legends Sports Bar 110 Mt. Vernon Ave Mount Vernon Ohio 43050
UID:e.2893.1296
SEQUENCE:3
DTSTAMP:20260423T063312Z
URL:http://knoxchamber.smartcms.site/events/details/charity-poker-run-benefiting-special-olympics-1296
END:VEVENT

END:VCALENDAR
