BEGIN:VCALENDAR
VERSION:2.0
PRODID:-//ChamberMaster//Event Calendar 2.0//EN
METHOD:PUBLISH
X-PUBLISHED-TTL:P3D
REFRESH-INTERVAL:P3D
CALSCALE:GREGORIAN
BEGIN:VEVENT
DTSTART:20170429T130000Z
DTEND:20170429T190000Z
X-MICROSOFT-CDO-ALLDAYEVENT:FALSE
SUMMARY:Charity Golf Outing by Fire and Iron MC
DESCRIPTION:Fire and Iron MC will be hosting its 3rd annual Charity Golf Outing. This will be a 4 man scramble. Proceeds raised will go to benefit other local charities and individuals in need. In the previous years we have donated to Winter Sanctuary Homeless Shelter\, New Directions\, Special Olympics\, Salvation Army\, and many individuals in need. To register or for more information please feel free to contact us
X-ALT-DESC;FMTTYPE=text/html:Fire and Iron MC will be hosting its 3rd annual Charity Golf Outing. This will be a 4 man scramble. Proceeds raised will go to benefit other local charities and individuals in need. In the previous years we have donated to Winter Sanctuary Homeless Shelter\, New Directions\, Special Olympics\, Salvation Army\, and many individuals in need. To register or for more information please feel free to contact us
LOCATION:Chapel Hill Golf Course
UID:e.2893.1295
SEQUENCE:3
DTSTAMP:20260423T093733Z
URL:http://knoxchamber.smartcms.site/events/details/charity-golf-outing-by-fire-and-iron-mc-1295
END:VEVENT

END:VCALENDAR
