BEGIN:VCALENDAR
VERSION:2.0
PRODID:-//ChamberMaster//Event Calendar 2.0//EN
METHOD:PUBLISH
X-PUBLISHED-TTL:P3D
REFRESH-INTERVAL:P3D
CALSCALE:GREGORIAN
BEGIN:VEVENT
DTSTART:20180601T013000Z
DTEND:20180601T031500Z
X-MICROSOFT-CDO-ALLDAYEVENT:FALSE
SUMMARY:Charity Comedy Special
DESCRIPTION:This is a comedy charity event that will be recorded and put on YouTube to further the charity donations.
X-ALT-DESC;FMTTYPE=text/html:This is a comedy charity event that will be recorded and put on YouTube to further the charity donations.
LOCATION:The Pierce Pub at Kenyon College
UID:e.2893.3641
SEQUENCE:3
DTSTAMP:20260422T092316Z
URL:http://knoxchamber.smartcms.site/events/details/charity-comedy-special-3641
END:VEVENT

END:VCALENDAR
