BEGIN:VCALENDAR
VERSION:2.0
PRODID:-//ChamberMaster//Event Calendar 2.0//EN
METHOD:PUBLISH
X-PUBLISHED-TTL:P3D
REFRESH-INTERVAL:P3D
CALSCALE:GREGORIAN
BEGIN:VEVENT
DTSTART:20190814T140000Z
DTEND:20190814T160000Z
X-MICROSOFT-CDO-ALLDAYEVENT:FALSE
SUMMARY:Chamber Training: The Art & Science of Effective Delegation
DESCRIPTION:Does your company have emerging leaders who could benefit from professional development around delegation? It may seem simple and straightforward\, but there are nuances to how\, when\, and what to delegate for the most effective results.\n\n\n\nDon't you simply tell direct reports what you want them to do? Well\, not really. Many employers are facing the same challenge. This workshop sponsored by Knox County Chamber of Commerce and the Public Library of Mount Vernon & Knox County will support the need for ongoing growth and development for emerging\, mid-level leaders and managers within your company. \n\n\n\nTopics Covered in Two-Hour Session\n\n  Why delegate?\n\n  What's trust got to do with it?\n\n  What to delegate and what not to delegate\n\n  A six step process for effective delegation\n\n  Impact of bad delegating\n\n  Myths about delegating\n\n \n\nLearning Outcomes\n\nAs a result of this workshop\, participants will be able to:\n\n  Describe opportunities of delegation for the individual\, the team and the leader\n\n  State the six-step process for effective delegation\n\n  Explain the myths of delegation and the consequences of poor delegation\n\n  Identify specific tasks to delegate\, to whom and why
X-ALT-DESC;FMTTYPE=text/html:<span style="language:en-US\;"><span style="font-family:times new roman\;"><span style="font-size:11.0pt\;">Does your company have emerging leaders who could benefit from professional&nbsp\;development around delegation? It may seem simple and straightforward\, but there are </span></span></span><span style="language:en-US\;"><span style="font-family:times new roman\;"><span style="font-size:11.0pt\;">nuances to how\, when\, and what to delegate for the most effective results.<br />\n<br />\nDon&rsquo\;t you simply tell</span></span></span><span style="language:en-US\;"><span style="font-family:times new roman\;"><span style="font-size:11.0pt\;"> direct reports what you want them to do? Well\, not really. Many employers are facing the same challenge. This workshop sponsored by Knox County Chamber of Commerce and the Public Library of Mount Vernon &amp\; Knox County will support the need for ongoing </span></span></span><span style="language:en-US\;"><span style="font-family:times new roman\;"><span style="font-size:11.0pt\;">growth and development for emerging\, mid-level leaders and managers within your compan</span></span></span><span style="language:en-US\;"><span style="font-family:times new roman\;"><span style="font-size:11.0pt\;">y. </span></span></span><br />\n<br />\n<span style="font-family:arial\;">Topics Covered in Two-Hour Session</span><br />\n<span style="direction:ltr\;unicode-bidi:embed\;language:x-none\;"><span style="color:black\;"><span style="font-size:11.0pt\;"><span style="font-family:symbol\;">&middot\;</span></span></span></span>&nbsp\;<span style="language:en-US\;"><span style="font-family:times new roman\;"><span style="font-size:11.0pt\;">Why delegate?</span></span></span><br />\n<span style="direction:ltr\;unicode-bidi:embed\;language:x-none\;"><span style="color:black\;"><span style="font-size:11.0pt\;"><span style="font-family:symbol\;">&middot\;</span></span></span></span>&nbsp\;<span style="language:en-US\;"><span style="font-family:times new roman\;"><span style="font-size:11.0pt\;">What&#39\;s trust got to do with it?</span></span></span><br />\n<span style="direction:ltr\;unicode-bidi:embed\;language:x-none\;"><span style="color:black\;"><span style="font-size:11.0pt\;"><span style="font-family:symbol\;">&middot\;</span></span></span></span>&nbsp\;<span style="language:en-US\;"><span style="font-family:times new roman\;"><span style="font-size:11.0pt\;">What to delegate and what not to delegate</span></span></span><br />\n<span style="direction:ltr\;unicode-bidi:embed\;language:x-none\;"><span style="color:black\;"><span style="font-size:11.0pt\;"><span style="font-family:symbol\;">&middot\;</span></span></span></span>&nbsp\;<span style="language:en-US\;"><span style="font-family:times new roman\;"><span style="font-size:11.0pt\;">A six step process for effective delegation</span></span></span><br />\n<span style="direction:ltr\;unicode-bidi:embed\;language:x-none\;"><span style="color:black\;"><span style="font-size:11.0pt\;"><span style="font-family:symbol\;">&middot\;</span></span></span></span>&nbsp\;<span style="language:en-US\;"><span style="font-family:times new roman\;"><span style="font-size:11.0pt\;">Impact of bad delegating</span></span></span><br />\n<span style="direction:ltr\;unicode-bidi:embed\;language:x-none\;"><span style="color:black\;"><span style="font-size:11.0pt\;"><span style="font-family:symbol\;">&middot\;</span></span></span></span>&nbsp\;<span style="language:en-US\;"><span style="font-family:times new roman\;"><span style="font-size:11.0pt\;">Myths about delegating</span></span></span><br />\n&nbsp\;<br />\n<span style="language:en-US\;"><span style="font-family:arial\;">Learning Outcomes</span></span><br />\n<span style="language:en-US\;"><span style="font-family:times new roman\;"><span style="font-size:11.0pt\;">As a result of this workshop\, participants will be able to:</span></span></span><br />\n<span style="direction:ltr\;unicode-bidi:embed\;language:x-none\;"><span style="color:black\;"><span style="font-size:10.0pt\;"><span style="font-family:symbol\;">&THORN\;</span></span></span></span>&nbsp\;<span style="language:en-US\;"><span style="font-family:times new roman\;"><span style="font-size:11.0pt\;">Describe opportunities of delegation for the individual\, the team and the leader</span></span></span><br />\n<span style="direction:ltr\;unicode-bidi:embed\;language:x-none\;"><span style="color:black\;"><span style="font-size:10.0pt\;"><span style="font-family:symbol\;">&THORN\;</span></span></span></span>&nbsp\;<span style="language:en-US\;"><span style="font-family:times new roman\;"><span style="font-size:11.0pt\;">State the six-step process for effective delegation</span></span></span><br />\n<span style="direction:ltr\;unicode-bidi:embed\;language:x-none\;"><span style="color:black\;"><span style="font-size:10.0pt\;"><span style="font-family:symbol\;">&THORN\;</span></span></span></span>&nbsp\;<span style="language:en-US\;"><span style="font-family:times new roman\;"><span style="font-size:11.0pt\;">Explain the myths of delegation and the consequences of poor delegation</span></span></span><br />\n<span style="direction:ltr\;unicode-bidi:embed\;language:x-none\;"><span style="color:black\;"><span style="font-size:10.0pt\;"><span style="font-family:symbol\;">&THORN\;</span></span></span></span>&nbsp\;<span style="language:en-US\;"><span style="font-family:times new roman\;"><span style="font-size:11.0pt\;">Identify specific tasks to delegate\, to whom and why</span></span></span><br />\n&nbsp\;<br />\n<br />\n<br />\n<br />\n<br />\n&nbsp\;
LOCATION:Public Library of Mount Vernon & Knox County 201 North Mulberry Street Mount Vernon\, Ohio
UID:e.2893.4349
SEQUENCE:3
DTSTAMP:20260421T070956Z
URL:http://knoxchamber.smartcms.site/events/details/chamber-training-the-art-science-of-effective-delegation-4349
END:VEVENT

END:VCALENDAR
