BEGIN:VCALENDAR
VERSION:2.0
PRODID:-//ChamberMaster//Event Calendar 2.0//EN
METHOD:PUBLISH
X-PUBLISHED-TTL:P3D
REFRESH-INTERVAL:P3D
CALSCALE:GREGORIAN
BEGIN:VEVENT
DTSTART:20191023T140000Z
DTEND:20191023T160000Z
X-MICROSOFT-CDO-ALLDAYEVENT:FALSE
SUMMARY:Chamber Training: Influencing Others: Above \, Below & Sideways
DESCRIPTION:Does your company have emerging leaders who could benefit from professional development around influencing others?  When people understand the importance of leading and influence\, and how the two are different but also intertwined\, the organization can be more effective in its operations. Teams are happier\, and trustful relationships are developed. Discovering ways to increase your influence in all direction and leading with that in mind...is key. This engaging workshop is sponsor by the Knox County Chamber of Commerce to support the need for ongoing growth and development for emerging. mid-level leaders and managers within your company.
X-ALT-DESC;FMTTYPE=text/html:Does your company have emerging leaders who could benefit from professional development around influencing others?&nbsp\; When people understand the importance of leading and influence\, and how the two are different but also intertwined\, the organization can be more effective in its operations. Teams are happier\, and trustful relationships are developed. Discovering ways to increase your influence in all direction and leading with that in mind...is key. This engaging workshop is sponsor by the Knox County Chamber of Commerce to support the need for ongoing growth and development for emerging. mid-level leaders and managers within your company.
LOCATION:Central Ohio Technical College 236 South Main Street\, Mount Vernon Room 130
UID:e.2893.4465
SEQUENCE:3
DTSTAMP:20260421T041048Z
URL:http://knoxchamber.smartcms.site/events/details/chamber-training-influencing-others-above-below-sideways-4465
END:VEVENT

END:VCALENDAR
