BEGIN:VCALENDAR
VERSION:2.0
PRODID:-//ChamberMaster//Event Calendar 2.0//EN
METHOD:PUBLISH
X-PUBLISHED-TTL:P3D
REFRESH-INTERVAL:P3D
CALSCALE:GREGORIAN
BEGIN:VEVENT
DTSTART:20220519T210000Z
DTEND:20220519T220000Z
X-MICROSOFT-CDO-ALLDAYEVENT:FALSE
SUMMARY:CHAMBER: Step Into Fitness 25th Anniversary Celebration
DESCRIPTION:Step Into Fitness is hosting an "OPEN HOUSE" 25th Anniversary celebration. You are invited to see our spacious fitness studio at 671-1/2 North Sandusky Street in Mount Vernon (located behind the BMV).\n\nWe'll have an anniversary ceremony shortly after 5pm. \n\nRefreshments\, music\, door prizes and a fitness demo. Meet many of our members who have weight loss testimony's. Come and help us celebrate 25 years of FITNESS!! Call Lorraine Boss at 740-392-0444 to learn more about her business and fitness opportunities.
X-ALT-DESC;FMTTYPE=text/html:<div style="font-family: Calibri\, Helvetica\, Arial\, sans-serif\; font-size: 14px\; white-space: pre-wrap\; background-color: rgb(255\, 255\, 255)\;"><span style="font-size:20px\;">Step Into Fitness is hosting an &ldquo\;OPEN HOUSE&rdquo\; 25<sup style="line-height: 0\; font-size: 9.8px\;">th</sup> Anniversary celebration.&nbsp\;You are invited to see our spacious fitness studio at 671-1/2 North Sandusky Street in Mount Vernon (located behind the BMV).<br />\nWe&#39\;ll have an anniversary ceremony shortly after 5pm. </span></div>\n\n<div style="font-family: Calibri\, Helvetica\, Arial\, sans-serif\; font-size: 14px\; white-space: pre-wrap\; background-color: rgb(255\, 255\, 255)\;"><span style="font-size:20px\;">Refreshments\, music\, door prizes and a fitness demo.&nbsp\;Meet many of our members who have weight loss testimony&rsquo\;s.&nbsp\;Come and help us celebrate 25 years of FITNESS!!&nbsp\;Call Lorraine Boss at 740-392-0444 to learn more about her business and fitness opportunities.</span></div>\n
LOCATION:Entrance is the side of the building and up the stairs. 671-1/2 North Sandusky Street in Mount Vernon.
UID:e.2893.6138
SEQUENCE:3
DTSTAMP:20260420T163340Z
URL:http://knoxchamber.smartcms.site/events/details/chamber-step-into-fitness-25th-anniversary-celebration-6138
END:VEVENT

END:VCALENDAR
