BEGIN:VCALENDAR
VERSION:2.0
PRODID:-//ChamberMaster//Event Calendar 2.0//EN
METHOD:PUBLISH
X-PUBLISHED-TTL:P3D
REFRESH-INTERVAL:P3D
CALSCALE:GREGORIAN
BEGIN:VEVENT
DTSTART:20190523T120000Z
DTEND:20190523T203000Z
X-MICROSOFT-CDO-ALLDAYEVENT:FALSE
SUMMARY:CHAMBER Spring Swing Golf Outing 2019
DESCRIPTION:Join us for our Annual Spring Swing event.  This is a scramble format event\, providing continental breakfast\, hot dog on the turn\, BBQ buffet\, beverages and The Laurels famous shrimp.\n\n\n\n Golf Teams are Sold Out \n\n\n\nCLICK here  to find out more information about the Golf Outing and Sponsorship Opportunites\n\n\n\nIf you are a Chamber member and you would like to be a Sponsor please register above. \n\n\nFor Promotional Products you can contact one of Chamber Members.        \n\n                                                                                                                                                                             Good Impressions  740-392-4327         \n\nHeartland Promotional Products 740-501-0498  Click Here\n\nKirkhope Marketing  740-358-6107
X-ALT-DESC;FMTTYPE=text/html:Join us for our Annual Spring Swing event. &nbsp\;This is a scramble format event\, providing continental breakfast\, hot dog on the turn\, BBQ buffet\, beverages and The Laurels famous shrimp.<br />\n<br />\n<span style="color:#B22222\;">&#8203\;Golf Teams are Sold Out&nbsp\;</span><br />\n<br />\n<a href="https://chambermaster.blob.core.windows.net/userfiles/UserFiles/chambers/2893/File/Golf2019Phamplet.pdf">CLICK here</a>&nbsp\; to find out more information about the Golf Outing and Sponsorship Opportunites<br />\n<br />\nIf you are a Chamber member and you would like to be a&nbsp\;<strong>Sponsor</strong>&nbsp\;please register above.&nbsp\;\n<div><br />\n<span background-color:="" font-size:="" trebuchet="">For Promotional Products you can contact one of Chamber Members.</span>&nbsp\;&nbsp\;&nbsp\;&nbsp\;&nbsp\;&nbsp\;&nbsp\;&nbsp\;<br />\n&nbsp\; &nbsp\; &nbsp\; &nbsp\; &nbsp\; &nbsp\; &nbsp\; &nbsp\; &nbsp\; &nbsp\; &nbsp\; &nbsp\; &nbsp\; &nbsp\; &nbsp\; &nbsp\; &nbsp\; &nbsp\; &nbsp\; &nbsp\; &nbsp\; &nbsp\; &nbsp\; &nbsp\; &nbsp\; &nbsp\; &nbsp\; &nbsp\; &nbsp\; &nbsp\; &nbsp\; &nbsp\; &nbsp\; &nbsp\; &nbsp\; &nbsp\; &nbsp\; &nbsp\; &nbsp\; &nbsp\; &nbsp\; &nbsp\; &nbsp\; &nbsp\; &nbsp\; &nbsp\; &nbsp\; &nbsp\; &nbsp\;<span background-color:="" font-size:="" trebuchet="">&nbsp\; &nbsp\; &nbsp\; &nbsp\; &nbsp\; &nbsp\; &nbsp\; &nbsp\; &nbsp\; &nbsp\; &nbsp\; &nbsp\; &nbsp\; &nbsp\; &nbsp\; &nbsp\; &nbsp\; &nbsp\; &nbsp\; &nbsp\; &nbsp\; &nbsp\; &nbsp\; &nbsp\; &nbsp\; &nbsp\; &nbsp\; &nbsp\; &nbsp\; &nbsp\; &nbsp\; &nbsp\; &nbsp\; &nbsp\; &nbsp\; &nbsp\; &nbsp\; &nbsp\; Good I</span>mpressions&nbsp\; 740-392-4327&nbsp\; &nbsp\; &nbsp\; &nbsp\; &nbsp\;</div>\n\n<div><span background-color:="" font-size:="" style="color: rgb(51\, 51\, 51)\; font-family: sans-serif\, Arial\, Verdana\, " trebuchet="">Heartland Promotional Products 740-501-0498&nbsp\;&nbsp\;</span><a font-size:="" href="https://heartlandpps.commonsku.com/present.php?id=125d94ca-68fa-4fe9-b885-e2444dbfdd39" style="color: rgb(7\, 130\, 193)\; font-family: sans-serif\, Arial\, Verdana\, " trebuchet=""><span style="color: rgb(0\, 0\, 255)\;">Click Here</span></a><br font-size:="" style="color: rgb(51\, 51\, 51)\; font-family: sans-serif\, Arial\, Verdana\, " trebuchet="" />\n<span background-color:="" font-size:="" style="color: rgb(51\, 51\, 51)\; font-family: sans-serif\, Arial\, Verdana\, " trebuchet="">Kirkhope Marketing&nbsp\; 740-358-6107&nbsp\;</span></div>\n<span background-color:="" font-size:="" style="color: rgb(51\, 51\, 51)\; font-family: sans-serif\, Arial\, Verdana\, " trebuchet="">&nbsp\; &nbsp\; &nbsp\; &nbsp\; &nbsp\; &nbsp\; &nbsp\; &nbsp\; &nbsp\; &nbsp\; &nbsp\; &nbsp\;&nbsp\;</span><span background-color:="" font-size:="" style="color: rgb(51\, 51\, 51)\; font-family: sans-serif\, Arial\, Verdana\, " trebuchet="">&nbsp\;&nbsp\; &nbsp\; &nbsp\; &nbsp\; &nbsp\; &nbsp\; &nbsp\; &nbsp\; &nbsp\; &nbsp\; &nbsp\; &nbsp\; &nbsp\;</span>
LOCATION:Irish Hills Golf Club 7020 Newark Road Mount Vernon\, Ohio 43050
UID:e.2893.1257
SEQUENCE:3
DTSTAMP:20260421T132449Z
URL:http://knoxchamber.smartcms.site/events/details/chamber-spring-swing-golf-outing-2019-1257
END:VEVENT

END:VCALENDAR
