BEGIN:VCALENDAR
VERSION:2.0
PRODID:-//ChamberMaster//Event Calendar 2.0//EN
METHOD:PUBLISH
X-PUBLISHED-TTL:P3D
REFRESH-INTERVAL:P3D
CALSCALE:GREGORIAN
BEGIN:VEVENT
DTSTART:20210527T120000Z
DTEND:20210527T203000Z
X-MICROSOFT-CDO-ALLDAYEVENT:FALSE
SUMMARY:Chamber Spring Swing Golf Outing
DESCRIPTION:SOLD OUT \n\nEmail programs@knoxchamber.com to get on a waiting list\n\nJoin us for our Annual Spring Swing Golf Outing.  This is a scramble format event\, providing continental breakfast\, lunch\, snacks\, beverages and The Laurels famous shrimp.\n\n\n\nDriving Range (Please stop at the range with your car before heading to the clubhouse. Range opens by 7:30 am . There will be no transportation to the range). The driving range is included in the cost of your team.\n\n\n\nAll teams must be paid before May 1st to secure your registration.\n\nCancellations after May 1st are non-refundable.
X-ALT-DESC;FMTTYPE=text/html:<strong><span style="font-size:18px\;"><span style="color:#006400\;">&nbsp\; &nbsp\; &nbsp\; &nbsp\; &nbsp\; &nbsp\; &nbsp\; &nbsp\; &nbsp\; &nbsp\; &nbsp\; &nbsp\; SOLD OUT&nbsp\;<br />\n<span style="font-size:14px\;">Email programs@knoxchamber.com to get on a waiting list</span></span><br />\nJoin us for our Annual Spring Swing Golf Outing. &nbsp\;This is a scramble format event\, providing continental breakfast\, lunch\, snacks\, beverages and The Laurels famous shrimp.</span></strong><br />\n<br />\n<strong>Driving Range</strong> (Please stop at the range with your car before heading to the clubhouse. Range opens by 7:30 am . There will be no transportation to the range). The driving range is included in the cost of your team.<br />\n<br />\n<span style="font-size:14px\;"><span style="color:#B22222\;"><span style="font-family: sans-serif\, Arial\, Verdana\, &quot\;Trebuchet MS&quot\;\; background-color: rgb(255\, 255\, 255)\;">All teams must be paid before May 1st to secure your registration.</span><br style="color: rgb(51\, 51\, 51)\; font-family: sans-serif\, Arial\, Verdana\, &quot\;Trebuchet MS&quot\;\; font-size: 13px\;" />\n<span style="font-family: sans-serif\, Arial\, Verdana\, &quot\;Trebuchet MS&quot\;\; background-color: rgb(255\, 255\, 255)\;">Cancellations after May 1st are non-refundable.</span></span></span>
LOCATION:Chapel Hill Golf Course 7516 Johnstown Road\, Mount Vernon\, Ohio 43050
UID:e.2893.1260
SEQUENCE:3
DTSTAMP:20260419T211449Z
URL:http://knoxchamber.smartcms.site/events/details/chamber-spring-swing-golf-outing-1260
END:VEVENT

END:VCALENDAR
