BEGIN:VCALENDAR
VERSION:2.0
PRODID:-//ChamberMaster//Event Calendar 2.0//EN
METHOD:PUBLISH
X-PUBLISHED-TTL:P3D
REFRESH-INTERVAL:P3D
CALSCALE:GREGORIAN
BEGIN:VEVENT
DTSTART:20190816T160000Z
DTEND:20190816T170000Z
X-MICROSOFT-CDO-ALLDAYEVENT:FALSE
SUMMARY:CHAMBER Ribbon Cutting Walk Eat Mount Vernon
DESCRIPTION:Welcome this new tour business to Knox County! Walk Eat Mount Vernon conducts walking food tours in downtown Mount Vernon\, Ohio. Enjoy a taste of fare from a variety of restaurants and breweries while learning about history\, architecture\, shops\, and artisans -- past and present! Help us make the day special!  Meet owner\, Vicky Lambert and learn about all the exciting things that the business has planned!
X-ALT-DESC;FMTTYPE=text/html:<span style="font-size:14px\;"><span style="font-family:arial\;">Welcome this new tour business to Knox County! <span style="color: rgb(13\, 14\, 18)\; background-color: rgba(106\, 151\, 63\, 0.18)\;">Walk Eat Mount Vernon conducts walking food tours in downtown Mount Vernon\, Ohio. Enjoy a taste of fare from a variety of restaurants and breweries while learning about history\, architecture\, shops\, and artisans -- past and present!</span> Help us make the day special!&nbsp\; Meet owner\, Vicky Lambert and learn about all the exciting things that the business has planned!</span></span>
LOCATION:The first floor promenade of the Woodward\, 107 South Main Street\, Mount Vernon
UID:e.2893.4377
SEQUENCE:3
DTSTAMP:20260421T085514Z
URL:http://knoxchamber.smartcms.site/events/details/chamber-ribbon-cutting-walk-eat-mount-vernon-4377
END:VEVENT

END:VCALENDAR
