BEGIN:VCALENDAR
VERSION:2.0
PRODID:-//ChamberMaster//Event Calendar 2.0//EN
METHOD:PUBLISH
X-PUBLISHED-TTL:P3D
REFRESH-INTERVAL:P3D
CALSCALE:GREGORIAN
BEGIN:VEVENT
DTSTART:20191204T170000Z
DTEND:20191204T180000Z
X-MICROSOFT-CDO-ALLDAYEVENT:FALSE
SUMMARY:CHAMBER Ribbon Cutting The Scent Life
DESCRIPTION:Join us in welcoming The Scent Life Candle Bar to downtown Mount Vernon! The Scent Life Candle Bar is a family-owned business where you can come to enjoy the unique experience of making your own candles with the scents of your choosing.  Specializing in not just candles\, but reed diffusers\, fragrance oils\, lotions\, and so much more\, help us make Mount Vernon feel like home to this new business.
X-ALT-DESC;FMTTYPE=text/html:<span style="font-size:14px\;"><span style="font-family:tahoma\;">Join us in welcoming The Scent Life Candle Bar to downtown Mount Vernon! The Scent Life Candle Bar is a<span style="color: rgb(28\, 30\, 33)\;">&nbsp\;family-owned business where you can come to enjoy the unique experience of making your own candles with the scents of your choosing.&nbsp\; Specializing in not just candles\, but reed diffusers\, fragrance oils\, lotions\, and so much more\, help us make Mount Vernon feel like home to this new business.</span></span></span>
LOCATION:135 South Main Street\, Mount Vernon
UID:e.2893.4681
SEQUENCE:3
DTSTAMP:20260421T010003Z
URL:http://knoxchamber.smartcms.site/events/details/chamber-ribbon-cutting-the-scent-life-4681
END:VEVENT

END:VCALENDAR
