BEGIN:VCALENDAR
VERSION:2.0
PRODID:-//ChamberMaster//Event Calendar 2.0//EN
METHOD:PUBLISH
X-PUBLISHED-TTL:P3D
REFRESH-INTERVAL:P3D
CALSCALE:GREGORIAN
BEGIN:VEVENT
DTSTART:20180620T160000Z
DTEND:20180620T170000Z
X-MICROSOFT-CDO-ALLDAYEVENT:FALSE
SUMMARY:CHAMBER Ribbon Cutting - The Original Dave's Cosmic Subs
DESCRIPTION:Join us for a ribbon cutting ceremony at The Original Dave's Cosmic Subs for a Noon ceremony.
X-ALT-DESC;FMTTYPE=text/html:<span style="color: rgb(51\, 51\, 51)\; font-family: sans-serif\, Arial\, Verdana\, &quot\;Trebuchet MS&quot\;\; font-size: 13px\; background-color: rgb(255\, 255\, 255)\;">Join us for a ribbon cutting ceremony at The Original Dave&#39\;s Cosmic Subs for a Noon ceremony.</span>
LOCATION:222 South Main Street Mount Vernon\, Ohio
UID:e.2893.3723
SEQUENCE:3
DTSTAMP:20260422T074912Z
URL:http://knoxchamber.smartcms.site/events/details/chamber-ribbon-cutting-the-original-dave-s-cosmic-subs-3723
END:VEVENT

END:VCALENDAR
