BEGIN:VCALENDAR
VERSION:2.0
PRODID:-//ChamberMaster//Event Calendar 2.0//EN
METHOD:PUBLISH
X-PUBLISHED-TTL:P3D
REFRESH-INTERVAL:P3D
CALSCALE:GREGORIAN
BEGIN:VEVENT
DTSTART:20180718T160000Z
DTEND:20180718T170000Z
X-MICROSOFT-CDO-ALLDAYEVENT:FALSE
SUMMARY:CHAMBER Ribbon Cutting - The Makery Shop
DESCRIPTION:Join us in welcoming The Makery Shop to downtown Mount Vernon.  Meet the owner\, Kim\, and her associates.  \n\n\n\nTheir instructions love to teach and will guide you step-by-step through the process of knitting\, hoop art\, painting\, stringing\, crocheting\,and more.\n\n\n\nRibbon Cutting ceremony at Noon.  All are welcome to attend!
X-ALT-DESC;FMTTYPE=text/html:Join us in welcoming <span style="color:#008000\;"><strong>The Makery Shop</strong></span> to downtown Mount Vernon.&nbsp\; Meet the owner\, Kim\, and her associates.&nbsp\;&nbsp\;<br />\n<br />\nTheir instructions love to teach and will guide you step-by-step through the process of knitting\, hoop art\, painting\, stringing\, crocheting\,and more.<br />\n<br />\nRibbon Cutting ceremony at Noon.&nbsp\; All are welcome to attend!
LOCATION:One North Main Street in beautiful downtown Mount Vernon\, Ohio.
UID:e.2893.3750
SEQUENCE:3
DTSTAMP:20260422T061338Z
URL:http://knoxchamber.smartcms.site/events/details/chamber-ribbon-cutting-the-makery-shop-3750
END:VEVENT

END:VCALENDAR
