BEGIN:VCALENDAR
VERSION:2.0
PRODID:-//ChamberMaster//Event Calendar 2.0//EN
METHOD:PUBLISH
X-PUBLISHED-TTL:P3D
REFRESH-INTERVAL:P3D
CALSCALE:GREGORIAN
BEGIN:VEVENT
DTSTART:20190405T200000Z
DTEND:20190405T210000Z
X-MICROSOFT-CDO-ALLDAYEVENT:FALSE
SUMMARY:CHAMBER Ribbon Cutting The Beaux Monda Salon Spa
DESCRIPTION:The Beaux Monde Salon Spa was created earlier this year by bringing together two top-notch beauty businesses in Knox County. Welcome this new business to the community at their official Ribbon Cutting Ceremony!
X-ALT-DESC;FMTTYPE=text/html:<span style="font-size: 12px\;"><span style="font-family: arial\;"><a href="http://www.thebeauxmonde.com/"><span style="color: rgb(178\, 34\, 34)\;">The Beaux Monde Salon Spa </span></a>was created&nbsp\;earlier this year&nbsp\;by bringing together two top-notch beauty businesses in Knox County. Welcome this new business to the community at their official Ribbon Cutting Ceremony!</span></span>
LOCATION:108 East Vine Street\, Mount Vernon
UID:e.2893.4249
SEQUENCE:3
DTSTAMP:20260421T152731Z
URL:http://knoxchamber.smartcms.site/events/details/chamber-ribbon-cutting-the-beaux-monda-salon-spa-4249
END:VEVENT

END:VCALENDAR
