BEGIN:VCALENDAR
VERSION:2.0
PRODID:-//ChamberMaster//Event Calendar 2.0//EN
METHOD:PUBLISH
X-PUBLISHED-TTL:P3D
REFRESH-INTERVAL:P3D
CALSCALE:GREGORIAN
BEGIN:VEVENT
DTSTART:20190817T180000Z
DTEND:20190817T210000Z
X-MICROSOFT-CDO-ALLDAYEVENT:FALSE
SUMMARY:CHAMBER Ribbon Cutting Tavaci Performing Arts
DESCRIPTION:Tavaci Performing Arts has moved! As they have continued to grow over the last few years\, Tavaci is in need of more space for their grown class sizes.  The doors will open at 2 with the Official Ribbon Cutting Ceremony at 2:15. There will be live entertainment from the students\, a photo booth\, face painting\, sno-cones and more throughout the day!
X-ALT-DESC;FMTTYPE=text/html:Tavaci Performing Arts has moved! As they have continued to grow over the last few years\, Tavaci is in need of more space for their grown class sizes.&nbsp\; The doors will open at 2 with the Official Ribbon Cutting Ceremony at 2:15. There will be live entertainment from the students\, a photo booth\, face painting\, sno-cones and more throughout the day!
LOCATION:316 South Main Street\, Suite B\, Mount Vernon
UID:e.2893.4412
SEQUENCE:3
DTSTAMP:20260421T070648Z
URL:http://knoxchamber.smartcms.site/events/details/chamber-ribbon-cutting-tavaci-performing-arts-4412
END:VEVENT

END:VCALENDAR
