BEGIN:VCALENDAR
VERSION:2.0
PRODID:-//ChamberMaster//Event Calendar 2.0//EN
METHOD:PUBLISH
X-PUBLISHED-TTL:P3D
REFRESH-INTERVAL:P3D
CALSCALE:GREGORIAN
BEGIN:VEVENT
DTSTART:20190111T210000Z
DTEND:20190111T230000Z
X-MICROSOFT-CDO-ALLDAYEVENT:FALSE
SUMMARY:CHAMBER Ribbon Cutting Stein Brewing Company
DESCRIPTION:Officialy welcome Stein Brewing Company's Restaurant to Mount Vernon with our Ribbon Cutting Ceremony!  Ribbon Cutting will be at 4pm\, and everyone is invited to stay afterwards for some delicious food and a drink or two!
X-ALT-DESC;FMTTYPE=text/html:Officialy welcome <em><span style="color: rgb(178\, 34\, 34)\;">Stein Brewing Company&#39\;s </span></em>Restaurant to Mount Vernon with our Ribbon Cutting Ceremony!&nbsp\; Ribbon Cutting will be at 4pm\, and everyone is invited to stay afterwards for some delicious food and a drink or two!
LOCATION:Stein Brewing Company 109 South Main Street\, Mount Vernon
UID:e.2893.3871
SEQUENCE:3
DTSTAMP:20260421T200139Z
URL:http://knoxchamber.smartcms.site/events/details/chamber-ribbon-cutting-stein-brewing-company-3871
END:VEVENT

END:VCALENDAR
