BEGIN:VCALENDAR
VERSION:2.0
PRODID:-//ChamberMaster//Event Calendar 2.0//EN
METHOD:PUBLISH
X-PUBLISHED-TTL:P3D
REFRESH-INTERVAL:P3D
CALSCALE:GREGORIAN
BEGIN:VEVENT
DTSTART:20190301T213000Z
DTEND:20190301T233000Z
X-MICROSOFT-CDO-ALLDAYEVENT:FALSE
SUMMARY:CHAMBER Ribbon Cutting Salon361
DESCRIPTION:Salon361 has moved locations!  Join us in welcoming them to their new salon with their Official Ribbon Cutting Ceremony. With more space\, an upscale look\, and an exciting buzz\, Salon361 is ready to see what the future in their new space holds!
X-ALT-DESC;FMTTYPE=text/html:<a href="http://www.salon361.com/"><span style="color: rgb(128\, 0\, 0)\;">Salon361</span></a> has moved locations!&nbsp\; Join us in welcoming them to their new salon with their Official Ribbon Cutting Ceremony. With more space\, an upscale look\, and an exciting buzz\, Salon361 is ready to see what the future in their new space holds!
LOCATION:1413 Coshocton Avenue\, Mount Vernon
UID:e.2893.4247
SEQUENCE:3
DTSTAMP:20260421T170227Z
URL:http://knoxchamber.smartcms.site/events/details/chamber-ribbon-cutting-salon361-4247
END:VEVENT

END:VCALENDAR
