BEGIN:VCALENDAR
VERSION:2.0
PRODID:-//ChamberMaster//Event Calendar 2.0//EN
METHOD:PUBLISH
X-PUBLISHED-TTL:P3D
REFRESH-INTERVAL:P3D
CALSCALE:GREGORIAN
BEGIN:VEVENT
DTSTART:20190409T200000Z
DTEND:20190409T210000Z
X-MICROSOFT-CDO-ALLDAYEVENT:FALSE
SUMMARY:CHAMBER Ribbon Cutting Ohio Corporate Photographer
DESCRIPTION:OHIO CORPORATE\n\n\n\n PHOTOGRAPHER\n\n\nJoin us at the Chamber Offices as we welcome Ohio Corporate Photographer to Knox County.  Meet owner\, Terry Thurston\, and learn about his 28 years in the photography business. From headshots to products\, Ohio Corporate Photographer is the way to go for professional photographs!
X-ALT-DESC;FMTTYPE=text/html:<div class="txtNew" data-packed="true" id="comp-jlybiqbj" style="margin: 54px 0px -6px calc((100% - 980px) * 0.5)\; padding: 0px\; border: 0px\; outline: 0px\; vertical-align: baseline\; background-image: initial\; background-position: 0px 0px\; background-size: initial\; background-repeat: initial\; background-attachment: initial\; background-origin: initial\; background-clip: initial\; overflow-wrap: break-word\; position: relative\; left: 0px\; grid-area: 1 / 1 / 2 / 2\; place-self: start\; pointer-events: none\; font-family: Arial\, Helvetica\, sans-serif\; font-size: 10px\; width: 980px\;">\n<div class="txtNew" data-packed="true" id="comp-jlybiqbj" style="margin: 54px 0px -6px calc((100% - 980px) * 0.5)\; padding: 0px\; border: 0px\; outline: 0px\; vertical-align: baseline\; background-image: initial\; background-position: 0px 0px\; background-size: initial\; background-repeat: initial\; background-attachment: initial\; background-origin: initial\; background-clip: initial\; overflow-wrap: break-word\; position: relative\; left: 0px\; grid-area: 1 / 1 / 2 / 2\; place-self: start\; pointer-events: none\; font-family: Arial\, Helvetica\, sans-serif\; font-size: 10px\; width: 980px\;">\n<h1 class="font_0" style="margin: 0px\; padding: 0px\; border: 0px\; outline: 0px\; vertical-align: baseline\; background-image: initial\; background-position: 0px 0px\; background-size: initial\; background-repeat: initial\; background-attachment: initial\; background-origin: initial\; background-clip: initial\; font-variant-numeric: normal\; font-variant-east-asian: normal\; font-weight: normal\; font-stretch: normal\; font-size: 70px\; line-height: normal\; font-family: cinzel\, serif\; color: rgb(255\, 255\, 255)\; pointer-events: auto\; text-align: center\;"><span class="color_34" style="margin: 0px\; padding: 0px\; border: 0px\; outline: 0px\; vertical-align: baseline\; background-image: initial\; background-position: 0px 0px\; background-size: initial\; background-repeat: initial\; background-attachment: initial\; background-origin: initial\; background-clip: initial\; color: rgb(33\, 36\, 98)\;"><span style="margin: 0px\; padding: 0px\; border: 0px\; outline: 0px\; vertical-align: baseline\; background-image: initial\; background-position: 0px 0px\; background-size: initial\; background-repeat: initial\; background-attachment: initial\; background-origin: initial\; background-clip: initial\; text-shadow: rgba(0\, 0\, 0\, 0.4) 0px 4px 5px\;"><span style="margin: 0px\; padding: 0px\; border: 0px\; outline: 0px\; vertical-align: baseline\; background-image: initial\; background-position: 0px 0px\; background-size: initial\; background-repeat: initial\; background-attachment: initial\; background-origin: initial\; background-clip: initial\; letter-spacing: 0.1em\;">OHIO CORPORATE</span></span></span></h1>\n</div>\n\n<div class="txtNew" data-packed="true" id="comp-jlybiqdl" style="margin: 0px 0px 10px calc((100% - 980px) * 0.5)\; padding: 0px\; border: 0px\; outline: 0px\; vertical-align: baseline\; background-image: initial\; background-position: 0px 0px\; background-size: initial\; background-repeat: initial\; background-attachment: initial\; background-origin: initial\; background-clip: initial\; overflow-wrap: break-word\; position: relative\; left: 180px\; grid-area: 2 / 1 / 3 / 2\; place-self: start\; pointer-events: none\; font-family: Arial\, Helvetica\, sans-serif\; font-size: 10px\; width: 595px\;">\n<h5 class="font_5" style="margin: 0px\; padding: 0px\; border: 0px\; outline: 0px\; vertical-align: baseline\; background-image: initial\; background-position: 0px 0px\; background-size: initial\; background-repeat: initial\; background-attachment: initial\; background-origin: initial\; background-clip: initial\; font-variant-numeric: normal\; font-variant-east-asian: normal\; font-weight: normal\; font-stretch: normal\; font-size: 20px\; line-height: normal\; font-family: avenir-lt-w01_35-light1475496\, sans-serif\; color: rgb(48\, 49\, 49)\; pointer-events: auto\; text-align: center\;"><span class="color_34" style="margin: 0px\; padding: 0px\; border: 0px\; outline: 0px\; vertical-align: baseline\; background-image: initial\; background-position: 0px 0px\; background-size: initial\; background-repeat: initial\; background-attachment: initial\; background-origin: initial\; background-clip: initial\; color: rgb(33\, 36\, 98)\;"><span style="margin: 0px\; padding: 0px\; border: 0px\; outline: 0px\; vertical-align: baseline\; background-image: initial\; background-position: 0px 0px\; background-size: initial\; background-repeat: initial\; background-attachment: initial\; background-origin: initial\; background-clip: initial\; text-shadow: rgba(0\, 0\, 0\, 0.4) 0px 4px 5px\;"><span style="margin: 0px\; padding: 0px\; border: 0px\; outline: 0px\; vertical-align: baseline\; background-image: initial\; background-position: 0px 0px\; background-size: initial\; background-repeat: initial\; background-attachment: initial\; background-origin: initial\; background-clip: initial\; letter-spacing: 0.55em\;">&nbsp\;PHOTOGRAPHER</span></span></span></h5>\n</div>\n</div>\nJoin us at the Chamber Offices as we welcome Ohio Corporate Photographer to Knox County.&nbsp\; Meet owner\, Terry Thurston\, and learn about his 28 years in the photography business. From headshots to products\, Ohio Corporate Photographer is the way to go for professional photographs!
LOCATION:Knox County Chamber of Commerce\, 400 South Gay Street\, Mount Vernon
UID:e.2893.4263
SEQUENCE:3
DTSTAMP:20260421T152731Z
URL:http://knoxchamber.smartcms.site/events/details/chamber-ribbon-cutting-ohio-corporate-photographer-4263
END:VEVENT

END:VCALENDAR
