BEGIN:VCALENDAR
VERSION:2.0
PRODID:-//ChamberMaster//Event Calendar 2.0//EN
METHOD:PUBLISH
X-PUBLISHED-TTL:P3D
REFRESH-INTERVAL:P3D
CALSCALE:GREGORIAN
BEGIN:VEVENT
DTSTART:20180630T210000Z
DTEND:20180701T020000Z
X-MICROSOFT-CDO-ALLDAYEVENT:FALSE
SUMMARY:CHAMBER Ribbon Cutting - Mazza's Restaurant
DESCRIPTION:Join us for our Grand Opening and Ribbon Cutting ceremony on Saturday\, June 30th.  The ribbon cutting will take place at 5:00pm.\n\n\n\nEvent is open to everyone.  You are encouraged to book dinner reservations via Open Table if you are remaining for dinner.
X-ALT-DESC;FMTTYPE=text/html:Join us for our Grand Opening and Ribbon Cutting ceremony on Saturday\, June 30th.&nbsp\; The ribbon cutting will take place at 5:00pm.<br />\n<br />\nEvent is open to everyone.&nbsp\; You are encouraged to book dinner reservations via Open Table if you are remaining for dinner.
LOCATION:11587 Upper Gilchrist Road\, Mount Vernon.
UID:e.2893.3742
SEQUENCE:3
DTSTAMP:20260422T074739Z
URL:http://knoxchamber.smartcms.site/events/details/chamber-ribbon-cutting-mazza-s-restaurant-3742
END:VEVENT

END:VCALENDAR
