BEGIN:VCALENDAR
VERSION:2.0
PRODID:-//ChamberMaster//Event Calendar 2.0//EN
METHOD:PUBLISH
X-PUBLISHED-TTL:P3D
REFRESH-INTERVAL:P3D
CALSCALE:GREGORIAN
BEGIN:VEVENT
DTSTART:20190315T210000Z
DTEND:20190315T220000Z
X-MICROSOFT-CDO-ALLDAYEVENT:FALSE
SUMMARY:CHAMBER Ribbon Cutting Lashley Training Center
DESCRIPTION:Help us welcome Lashley Training Center to their new location with their Official Ribbon Cutting Ceremony!  Lashley Training Center is a family oriented business and is your one stop shop for training your body.  Their new location will allow the business to grow their clientelle while still offering the same quality training experience for you and your family!
X-ALT-DESC;FMTTYPE=text/html:Help us welcome <a href="http://www.lashleytrainingcenter.com/"><span style="color: rgb(178\, 34\, 34)\;">Lashley Training Center</span> </a>to their new location with their Official Ribbon Cutting Ceremony!&nbsp\; Lashley Training Center is a family oriented business and is your one stop shop for training your body.&nbsp\; Their new location will allow the business to grow their clientelle while still offering the same quality training experience for you and your family!
LOCATION:14261 Parrot St Extension\, Mount Vernon
UID:e.2893.4248
SEQUENCE:3
DTSTAMP:20260421T182702Z
URL:http://knoxchamber.smartcms.site/events/details/chamber-ribbon-cutting-lashley-training-center-4248
END:VEVENT

END:VCALENDAR
