BEGIN:VCALENDAR
VERSION:2.0
PRODID:-//ChamberMaster//Event Calendar 2.0//EN
METHOD:PUBLISH
X-PUBLISHED-TTL:P3D
REFRESH-INTERVAL:P3D
CALSCALE:GREGORIAN
BEGIN:VEVENT
DTSTART:20190118T170000Z
DTEND:20190118T180000Z
X-MICROSOFT-CDO-ALLDAYEVENT:FALSE
SUMMARY:Chamber Ribbon Cutting LakeFit Nutrition
DESCRIPTION:Official Ribbon Cutting Ceremony!  Welcome this new business to Knox County\, and enjoy a smoothie while your there. Learn more about LakeFit Nutrition by clicking the link.
X-ALT-DESC;FMTTYPE=text/html:<span inline="" new="" style="color: rgb(0\, 0\, 0)\; text-transform: none\; text-indent: 0px\; letter-spacing: normal\; font-family: Georgia\,\;" times="">Official Ribbon Cutting Ceremony! &nbsp\;Welcome this new business to Knox County\, and enjoy a smoothie while your there. Learn more about </span><span inline="" new="" style="text-transform: none\; text-indent: 0px\; letter-spacing: normal\; font-family: Georgia\,\;" times=""><a href="http://www.facebook.com/LakeFitNutrition/"><span style="color: rgb(128\, 0\, 0)\;">LakeFit Nutrition</span></a></span><span inline="" new="" style="color: rgb(0\, 0\, 0)\; text-transform: none\; text-indent: 0px\; letter-spacing: normal\; font-family: Georgia\,\;" times=""> by clicking the link.&nbsp\;</span>
LOCATION:22021 Coshocton Road Suite D\, Howard
UID:e.2893.3873
SEQUENCE:3
DTSTAMP:20260421T200221Z
URL:http://knoxchamber.smartcms.site/events/details/chamber-ribbon-cutting-lakefit-nutrition-3873
END:VEVENT

END:VCALENDAR
