BEGIN:VCALENDAR
VERSION:2.0
PRODID:-//ChamberMaster//Event Calendar 2.0//EN
METHOD:PUBLISH
X-PUBLISHED-TTL:P3D
REFRESH-INTERVAL:P3D
CALSCALE:GREGORIAN
BEGIN:VEVENT
DTSTART:20190503T211500Z
DTEND:20190503T220000Z
X-MICROSOFT-CDO-ALLDAYEVENT:FALSE
SUMMARY:CHAMBER Ribbon Cutting Knox Partnership for Arts and Culture
DESCRIPTION:Officially welcome Knox Partnership for Arts and Culture(KPAC) to their location in the Woodward Opera House.  KPAC has already been putting on a variety of entertaining shows in the Woodward\, and looks to continue to bring a multitude of great acts to Knox County in the future. Following the Ceremony\, at 7:30pm Knox Partnership for Arts and Culture will host Michael Reno Harrell.  Follow the web address below for details and pricing of the show. \n\nhttps://www.thewoodward.org/index.php/events
X-ALT-DESC;FMTTYPE=text/html:Officially welcome Knox Partnership for Arts and Culture(KPAC) to their location in the Woodward Opera House.&nbsp\; KPAC has already been putting on a variety of entertaining shows in the Woodward\, and looks to continue to bring a multitude of great acts to Knox County in the future. Following the Ceremony\, at 7:30pm Knox Partnership for Arts and Culture will host Michael Reno Harrell.&nbsp\; Follow the web address below for details and pricing of the show.&nbsp\;<br />\nhttps://www.thewoodward.org/index.php/events
LOCATION:107 South Main Street\, Mount Vernon
UID:e.2893.4267
SEQUENCE:3
DTSTAMP:20260421T132939Z
URL:http://knoxchamber.smartcms.site/events/details/chamber-ribbon-cutting-knox-partnership-for-arts-and-culture-4267
END:VEVENT

END:VCALENDAR
