BEGIN:VCALENDAR
VERSION:2.0
PRODID:-//ChamberMaster//Event Calendar 2.0//EN
METHOD:PUBLISH
X-PUBLISHED-TTL:P3D
REFRESH-INTERVAL:P3D
CALSCALE:GREGORIAN
BEGIN:VEVENT
DTSTART:20191108T170000Z
DTEND:20191108T180000Z
X-MICROSOFT-CDO-ALLDAYEVENT:FALSE
SUMMARY:CHAMBER Ribbon Cutting Kelley Davis Photography
DESCRIPTION:Kelley Davis Photography is a new professional photographer making her home right here in down town Mount Vernon. Specializing in portrait photography\, Kelley Davis Photography captures images in a raw color format\, which are then brought to their full potential in the editing process.
X-ALT-DESC;FMTTYPE=text/html:Kelley Davis Photography is a new professional photographer making her home right here in down town Mount Vernon. Specializing in portrait photography\, Kelley Davis Photography captures images in a raw color format\, which are then brought to their full potential in the editing process.&nbsp\;
LOCATION:316 South Main Street\, Mount Vernon
UID:e.2893.4648
SEQUENCE:3
DTSTAMP:20260421T041313Z
URL:http://knoxchamber.smartcms.site/events/details/chamber-ribbon-cutting-kelley-davis-photography-4648
END:VEVENT

END:VCALENDAR
