BEGIN:VCALENDAR
VERSION:2.0
PRODID:-//ChamberMaster//Event Calendar 2.0//EN
METHOD:PUBLISH
X-PUBLISHED-TTL:P3D
REFRESH-INTERVAL:P3D
CALSCALE:GREGORIAN
BEGIN:VEVENT
DTSTART:20180611T160000Z
DTEND:20180611T210000Z
X-MICROSOFT-CDO-ALLDAYEVENT:FALSE
SUMMARY:CHAMBER Ribbon Cutting - Kay Jewelers
DESCRIPTION:Kay Jewelers new store is hosting their Grand Opening and Ribbon Cutting Ceremony today!  Ribbon Cutting will be held at Noon.\n\n\n\nAll are welcome to attend this free event.
X-ALT-DESC;FMTTYPE=text/html:Kay Jewelers new store is hosting their Grand Opening and Ribbon Cutting Ceremony today!&nbsp\; Ribbon Cutting will be held at Noon.<br />\n<br />\nAll are welcome to attend this free event.
LOCATION:921 Coshocton Avenue in Mount Vernon\, Ohio.
UID:e.2893.3724
SEQUENCE:3
DTSTAMP:20260422T075601Z
URL:http://knoxchamber.smartcms.site/events/details/chamber-ribbon-cutting-kay-jewelers-3724
END:VEVENT

END:VCALENDAR
