BEGIN:VCALENDAR
VERSION:2.0
PRODID:-//ChamberMaster//Event Calendar 2.0//EN
METHOD:PUBLISH
X-PUBLISHED-TTL:P3D
REFRESH-INTERVAL:P3D
CALSCALE:GREGORIAN
BEGIN:VEVENT
DTSTART:20190927T203000Z
DTEND:20190927T230000Z
X-MICROSOFT-CDO-ALLDAYEVENT:FALSE
SUMMARY:CHAMBER Ribbon Cutting International Alliance of Chaplin Corps & Mount Vernon Police Chaplin Association
DESCRIPTION:Join us for the Official Ribbon Cutting Ceremony for International Alliance of Chaplain Corps & Mount Vernon Police Chaplain Association.  Meet Dr. Tracy Elder\, Sgt. Andy Burns\, and other associates.\nInternational Alliance of Chaplain Corps are teams of highly-trained\, highly-motivated Chaplains dedicated to the service of the people in our communities.  \n\n \n\nOur main goal is to provide support\, counsel\, training\, volunteerism\, and critical incident stress debriefing.
X-ALT-DESC;FMTTYPE=text/html:<strong><span style="font-size:14px\;">Join us for the Official Ribbon Cutting Ceremony for International Alliance of Chaplain Corps &amp\; Mount Vernon Police Chaplain Association.&nbsp\; Meet Dr. Tracy Elder\, Sgt. Andy Burns\, and other associates.</span></strong>\n<p style="-webkit-tap-highlight-color: rgba(0\, 0\, 0\, 0)\; margin-top: 0px\; margin-bottom: 0px\; color: rgb(147\, 139\, 139)\; font-family: Arial\, sans-serif\; font-size: 13px\; font-style: normal\; font-variant-ligatures: normal\; font-variant-caps: normal\; font-weight: 400\; letter-spacing: normal\; orphans: 2\; text-align: start\; text-indent: 0px\; text-transform: none\; white-space: normal\; widows: 2\; word-spacing: 0px\; -webkit-text-stroke-width: 0px\; background-color: rgb(170\, 212\, 255)\; text-decoration-style: initial\; text-decoration-color: initial\;"><span style="font-size:14px\;"><span class="editor_color_dark" style="-webkit-tap-highlight-color: rgba(0\, 0\, 0\, 0)\; margin-top: 0px\; margin-bottom: 0px\; color: rgb(48\, 41\, 52)\;">International Alliance of Chaplain Corps&nbsp\;are teams of highly-trained\, highly-motivated Chaplains dedicated to the service of the people in our communities.&nbsp\;&nbsp\;</span></span></p>\n\n<p style="-webkit-tap-highlight-color: rgba(0\, 0\, 0\, 0)\; margin-top: 0px\; margin-bottom: 0px\; color: rgb(147\, 139\, 139)\; font-family: Arial\, sans-serif\; font-size: 13px\; font-style: normal\; font-variant-ligatures: normal\; font-variant-caps: normal\; font-weight: 400\; letter-spacing: normal\; orphans: 2\; text-align: start\; text-indent: 0px\; text-transform: none\; white-space: normal\; widows: 2\; word-spacing: 0px\; -webkit-text-stroke-width: 0px\; background-color: rgb(170\, 212\, 255)\; text-decoration-style: initial\; text-decoration-color: initial\;">&nbsp\;</p>\n\n<p style="-webkit-tap-highlight-color: rgba(0\, 0\, 0\, 0)\; margin-top: 0px\; margin-bottom: 0px\; color: rgb(147\, 139\, 139)\; font-family: Arial\, sans-serif\; font-size: 13px\; font-style: normal\; font-variant-ligatures: normal\; font-variant-caps: normal\; font-weight: 400\; letter-spacing: normal\; orphans: 2\; text-align: start\; text-indent: 0px\; text-transform: none\; white-space: normal\; widows: 2\; word-spacing: 0px\; -webkit-text-stroke-width: 0px\; background-color: rgb(170\, 212\, 255)\; text-decoration-style: initial\; text-decoration-color: initial\;"><span style="font-size:14px\;"><span class="editor_color_dark" style="-webkit-tap-highlight-color: rgba(0\, 0\, 0\, 0)\; margin-top: 0px\; margin-bottom: 0px\; color: rgb(48\, 41\, 52)\;">Our main goal is to provide support\, counsel\, training\, volunteerism\, and critical incident stress debriefing.</span></span></p>\n
LOCATION:209 North Mulberry Street\, Mount Vernon. Located in the green house on the same side as the library.
UID:e.2893.4428
SEQUENCE:3
DTSTAMP:20260421T053915Z
URL:http://knoxchamber.smartcms.site/events/details/chamber-ribbon-cutting-international-alliance-of-chaplin-corps-mount-vernon-police-chaplin-association-4428
END:VEVENT

END:VCALENDAR
