BEGIN:VCALENDAR
VERSION:2.0
PRODID:-//ChamberMaster//Event Calendar 2.0//EN
METHOD:PUBLISH
X-PUBLISHED-TTL:P3D
REFRESH-INTERVAL:P3D
CALSCALE:GREGORIAN
BEGIN:VEVENT
DTSTART:20191203T160000Z
DTEND:20191203T170000Z
X-MICROSOFT-CDO-ALLDAYEVENT:FALSE
SUMMARY:CHAMBER Ribbon Cutting Heating and Cooling Products
DESCRIPTION:Heating and Cooling Products (325 Commerce Drive) is planning a short dedication ceremony of their new building.  They have purchased the AMG building located at 300 Commerce Drive.  The building will be dedicated to Jay Blaushild\, the grandfather to the owner.  Help us show community support to the expansion of this family owned and operated business.
X-ALT-DESC;FMTTYPE=text/html:Heating and Cooling Products (325 Commerce Drive) is planning a short dedication ceremony of their new building.&nbsp\; They have purchased the AMG building located at 300 Commerce Drive.&nbsp\; The building will be dedicated to Jay Blaushild\, the grandfather to the owner.&nbsp\; Help us show community support to the expansion of this family owned and operated business.&nbsp\;&nbsp\;
LOCATION:300 Commerce Drive\, Mount Vernon
UID:e.2893.4677
SEQUENCE:3
DTSTAMP:20260421T023706Z
URL:http://knoxchamber.smartcms.site/events/details/chamber-ribbon-cutting-heating-and-cooling-products-4677
END:VEVENT

END:VCALENDAR
