BEGIN:VCALENDAR
VERSION:2.0
PRODID:-//ChamberMaster//Event Calendar 2.0//EN
METHOD:PUBLISH
X-PUBLISHED-TTL:P3D
REFRESH-INTERVAL:P3D
CALSCALE:GREGORIAN
BEGIN:VEVENT
DTSTART:20231026T203000Z
DTEND:20231026T210000Z
X-MICROSOFT-CDO-ALLDAYEVENT:FALSE
SUMMARY:CHAMBER: Ribbon Cutting For Marigold on Main
DESCRIPTION:Join us as we celebrate the one-year anniversary of Marigold on Main opening with a Ribbon Cutting and Open House on Thursday\, October 26th from 4:30 to 7 pm.\n\n\n\nThe Ribbon Cutting is at 4:30 pm at Marigold on Main\, 8 East Main Street\, Centerburg\, Ohio 43011.\n\n\n\nThere will be refreshments and swag bag gifts given to the first 25 Marigold Friends to attend our celebration. They are so thankful for all the community support during our first year and look forward to growing with them.
X-ALT-DESC;FMTTYPE=text/html:Join us as we celebrate the one-year anniversary of Marigold on Main opening with a Ribbon Cutting and Open House on Thursday\, October 26th from 4:30 to 7 pm.<br />\n<br />\nThe Ribbon Cutting is at 4:30 pm at Marigold on Main\, 8 East Main Street\, Centerburg\, Ohio 43011.<br />\n<br />\nThere will be refreshments and swag bag gifts given to the first 25 Marigold Friends to attend our celebration. They are so thankful for all the community support during our first year and look forward to growing with them.&nbsp\;
LOCATION:Marigold on Main 8 East Main Street Centerburg\, Ohio 43011
UID:e.2893.8614
SEQUENCE:3
DTSTAMP:20260421T085414Z
URL:http://knoxchamber.smartcms.site/events/details/chamber-ribbon-cutting-for-marigold-on-main-8614
END:VEVENT

END:VCALENDAR
