BEGIN:VCALENDAR
VERSION:2.0
PRODID:-//ChamberMaster//Event Calendar 2.0//EN
METHOD:PUBLISH
X-PUBLISHED-TTL:P3D
REFRESH-INTERVAL:P3D
CALSCALE:GREGORIAN
BEGIN:VEVENT
DTSTART:20190605T160000Z
DTEND:20190605T170000Z
X-MICROSOFT-CDO-ALLDAYEVENT:FALSE
SUMMARY:CHAMBER Ribbon Cutting - Fish Cove Aquariums
DESCRIPTION:Join us in welcoming Fish Cove Aquariums to Mount Vernon. Come for the Ribbon Cutting Ceremony at Noon\, and stay to meet the staff as well as check out their inventory of beautiful fish and aquariums!
X-ALT-DESC;FMTTYPE=text/html:Join us in welcoming Fish Cove Aquariums to Mount Vernon. Come for the Ribbon Cutting Ceremony at Noon\, and stay to meet the staff as well as check out their inventory of beautiful fish and aquariums!&nbsp\;&nbsp\;&nbsp\;&nbsp\;
LOCATION:401 North Sandusky Street\, Mount Vernon
UID:e.2893.4303
SEQUENCE:3
DTSTAMP:20260421T103905Z
URL:http://knoxchamber.smartcms.site/events/details/chamber-ribbon-cutting-fish-cove-aquariums-4303
END:VEVENT

END:VCALENDAR
