BEGIN:VCALENDAR
VERSION:2.0
PRODID:-//ChamberMaster//Event Calendar 2.0//EN
METHOD:PUBLISH
X-PUBLISHED-TTL:P3D
REFRESH-INTERVAL:P3D
CALSCALE:GREGORIAN
BEGIN:VEVENT
DTSTART:20190215T170000Z
DTEND:20190215T173000Z
X-MICROSOFT-CDO-ALLDAYEVENT:FALSE
SUMMARY:CHAMBER: Ribbon Cutting Epic Bargain Shop LLC
DESCRIPTION:Official Ribbon Cutting Ceremony! Join us in welcoming this new bargain shop to Main Street in Mount Vernon.  Get brand new items for discounted prices!  Stay afterwards to meet with owner\, Justine Fields and learn more about the shop!
X-ALT-DESC;FMTTYPE=text/html:<p>Official Ribbon Cutting Ceremony! Join us in welcoming this new bargain shop to Main Street in Mount Vernon.&nbsp\; Get brand new items for discounted prices!&nbsp\; Stay afterwards to meet with owner\, Justine Fields and learn more about the shop!</p>\n
LOCATION:316 South Main Street\, Mount Vernon
UID:e.2893.3879
SEQUENCE:3
DTSTAMP:20260421T195707Z
URL:http://knoxchamber.smartcms.site/events/details/chamber-ribbon-cutting-epic-bargain-shop-llc-3879
END:VEVENT

END:VCALENDAR
