BEGIN:VCALENDAR
VERSION:2.0
PRODID:-//ChamberMaster//Event Calendar 2.0//EN
METHOD:PUBLISH
X-PUBLISHED-TTL:P3D
REFRESH-INTERVAL:P3D
CALSCALE:GREGORIAN
BEGIN:VEVENT
DTSTART:20191206T170000Z
DTEND:20191206T180000Z
X-MICROSOFT-CDO-ALLDAYEVENT:FALSE
SUMMARY:Chamber Ribbon Cutting Elevated Hearing Center\, LLC
DESCRIPTION:Elevated Hearing Center\, LLC\, and owner Robin Graham are excited to bring a new audiologist practice to Mount Vernon.  At Elevated Hearing Center\, hearing care is done the way it should be.  Help us welcome this new practice to Mount Vernon as we celebrate their Official Ribbon Cutting Ceremony.
X-ALT-DESC;FMTTYPE=text/html:Elevated Hearing Center\, LLC\, and owner Robin Graham are excited to bring a new audiologist practice to Mount Vernon.&nbsp\; At Elevated Hearing Center\, hearing care is done the way it should be.&nbsp\; Help us welcome this new practice to Mount Vernon as we celebrate their Official Ribbon Cutting Ceremony.&nbsp\;
LOCATION:112 Harcourt Road\, Suite 4\, Mount Vernon
UID:e.2893.4682
SEQUENCE:3
DTSTAMP:20260421T005021Z
URL:http://knoxchamber.smartcms.site/events/details/chamber-ribbon-cutting-elevated-hearing-center-llc-4682
END:VEVENT

END:VCALENDAR
