BEGIN:VCALENDAR
VERSION:2.0
PRODID:-//ChamberMaster//Event Calendar 2.0//EN
METHOD:PUBLISH
X-PUBLISHED-TTL:P3D
REFRESH-INTERVAL:P3D
CALSCALE:GREGORIAN
BEGIN:VEVENT
DTSTART:20191101T160000Z
DTEND:20191101T170000Z
X-MICROSOFT-CDO-ALLDAYEVENT:FALSE
SUMMARY:CHAMBER Ribbon Cutting Dollar General
DESCRIPTION:Join us as we welcome the new Dollar General store to Northern Mount Vernon! Just up Route 3\, the new store provides a brand new convenience store to the area and allows residents the ability to shop without coming all the way in to town.  Help us celebrate this new store with their official Ribbon Cutting Ceremony.  Meet Manager\, Mary Bodkin\, and the rest of the staff!
X-ALT-DESC;FMTTYPE=text/html:Join us as we welcome the new Dollar General store to Northern Mount Vernon! Just up Route 3\, the new store provides a brand new convenience store to the area and allows residents the ability to shop without coming all the way in to town.&nbsp\; Help us celebrate this new store with their official Ribbon Cutting Ceremony.&nbsp\; Meet Manager\, Mary Bodkin\, and the rest of the staff!&nbsp\;&nbsp\;&nbsp\;&nbsp\;
LOCATION:20095 Lower Fredericktown Amity Road\, Mount Vernon
UID:e.2893.4643
SEQUENCE:3
DTSTAMP:20260421T023509Z
URL:http://knoxchamber.smartcms.site/events/details/chamber-ribbon-cutting-dollar-general-4643
END:VEVENT

END:VCALENDAR
