BEGIN:VCALENDAR
VERSION:2.0
PRODID:-//ChamberMaster//Event Calendar 2.0//EN
METHOD:PUBLISH
X-PUBLISHED-TTL:P3D
REFRESH-INTERVAL:P3D
CALSCALE:GREGORIAN
BEGIN:VEVENT
DTSTART:20200312T160000Z
DTEND:20200312T170000Z
X-MICROSOFT-CDO-ALLDAYEVENT:FALSE
SUMMARY:Chamber Ribbon Cutting ContactUs
DESCRIPTION:Join us for the Official Ribbon Cutting Ceremony for ContactUs Communications. Located at 939 Coshocton Avenue\, in Mount Vernon\, ContactUS Communications is a U.S. based contact center services organization supporting brands across a variety of industries. Their Mount Vernon Facility is working to expand beyond the retail clients they currently support\, to include technical support and even work from home positions. Their goal is to create new job opportunities that enable them to reach out to additional areas of talent in the labor market.
X-ALT-DESC;FMTTYPE=text/html:<span style="color: rgb(29\, 33\, 41)\; font-family: Helvetica\, Arial\, sans-serif\; font-size: 14px\; white-space: pre-wrap\; background-color: rgb(255\, 255\, 255)\;">Join us for the Official Ribbon Cutting Ceremony for ContactUs Communications. Located at 939 Coshocton Avenue\, in Mount Vernon\, ContactUS Communications is a U.S. based contact center services organization supporting brands across a variety of industries. Their Mount Vernon Facility is working to expand beyond the retail clients they currently support\, to include technical support and even work from home positions. Their goal is to create new job opportunities that enable them to reach out to additional areas of talent in the labor market.</span>
LOCATION:ContactUs\, 939 Coshocton Avenue
UID:e.2893.4750
SEQUENCE:3
DTSTAMP:20260420T212736Z
URL:http://knoxchamber.smartcms.site/events/details/chamber-ribbon-cutting-contactus-4750
END:VEVENT

END:VCALENDAR
