BEGIN:VCALENDAR
VERSION:2.0
PRODID:-//ChamberMaster//Event Calendar 2.0//EN
METHOD:PUBLISH
X-PUBLISHED-TTL:P3D
REFRESH-INTERVAL:P3D
CALSCALE:GREGORIAN
BEGIN:VEVENT
DTSTART:20200112T153000Z
DTEND:20200112T180000Z
X-MICROSOFT-CDO-ALLDAYEVENT:FALSE
SUMMARY:CHAMBER Ribbon Cutting Church of Christ Merger Celebration
DESCRIPTION:Join us for a special Sunday as we celebrate the merger of the Eastside and and Newark Road Churches of Christ! With a long history in Mount Vernon\, these two congregations are even more excited about the future God has prepared for the congregation in the Mount Vernon community. By bringing the two congregations together and under one roof\, they hope to serve the Lord in a more unified manner. They invite you to join them for your fresh start as well! This special Sunday will include guest speaker Matt Thomas\, who was a member of Newark Road before he went into ministry. After the morning service we will have a fellowship meal that all our invited to attend and a ribbon cutting. Join us for this special time!
X-ALT-DESC;FMTTYPE=text/html:Join us for a special Sunday as we celebrate the merger of the Eastside and and Newark Road Churches of Christ! With a long history in Mount Vernon\, these two congregations are even more excited about the future God has prepared for the congregation in the Mount Vernon community. By bringing the two congregations together and under one roof\, they hope to serve the Lord in a more unified manner. They invite you to join them for your fresh start as well! This special Sunday will include guest speaker Matt Thomas\, who was a member of Newark Road before he went into ministry. After the morning service we will have a fellowship meal that all our invited to attend and a ribbon cutting. Join us for this special time!
LOCATION:1200 Newark Rd.\, Mt. Vernon OH\, 43050
UID:e.2893.4716
SEQUENCE:3
DTSTAMP:20260421T010157Z
URL:http://knoxchamber.smartcms.site/events/details/chamber-ribbon-cutting-church-of-christ-merger-celebration-4716
END:VEVENT

END:VCALENDAR
