BEGIN:VCALENDAR
VERSION:2.0
PRODID:-//ChamberMaster//Event Calendar 2.0//EN
METHOD:PUBLISH
X-PUBLISHED-TTL:P3D
REFRESH-INTERVAL:P3D
CALSCALE:GREGORIAN
BEGIN:VEVENT
DTSTART:20190501T160000Z
DTEND:20190501T170000Z
X-MICROSOFT-CDO-ALLDAYEVENT:FALSE
SUMMARY:Chamber Ribbon Cutting Chevrolet\, Buick GMC of Mount Vernon
DESCRIPTION:Join us for the Official Ribbon Cutting Ceremony for Chevrolet Buick GMC of Mount Vernon! With years of experience and training\, the team members at Chevrolet Buick GMC truly are specialists\, and will get you into the new or used Chevrolet\, Buick or GMC of your dreams. Meet the whole staff and take a look at their inventory!
X-ALT-DESC;FMTTYPE=text/html:<span style="font-size:14px\;"><span style="font-family:arial\;">Join us for the Official Ribbon Cutting Ceremony for Chevrolet Buick GMC of Mount Vernon! <span style="color: rgb(29\, 33\, 41)\; white-space: pre-wrap\; background-color: rgb(255\, 255\, 255)\;">With years of experience and training\, the team members at Chevrolet Buick GMC truly are specialists\, and will get you into the new or used Chevrolet\, Buick or GMC of your dreams. Meet the whole staff and take a look at their inventory!</span></span></span>
LOCATION:510 Harcourt Road\, Mount Vernon
UID:e.2893.4298
SEQUENCE:3
DTSTAMP:20260421T132937Z
URL:http://knoxchamber.smartcms.site/events/details/chamber-ribbon-cutting-chevrolet-buick-gmc-of-mount-vernon-4298
END:VEVENT

END:VCALENDAR
