BEGIN:VCALENDAR
VERSION:2.0
PRODID:-//ChamberMaster//Event Calendar 2.0//EN
METHOD:PUBLISH
X-PUBLISHED-TTL:P3D
REFRESH-INTERVAL:P3D
CALSCALE:GREGORIAN
BEGIN:VEVENT
DTSTART:20190412T160000Z
DTEND:20190412T170000Z
X-MICROSOFT-CDO-ALLDAYEVENT:FALSE
SUMMARY:CHAMBER: Ribbon Cutting Ceremony Half Baked Cafe
DESCRIPTION:Half Baked Cafe  is coming to Mount Vernon this Spring.  With a flare for new and different flavors\, Half Baked Cafe wants to change the way you think of a local bake shop.  Join us in welcoming this exciting new business with their Official Ribbon Cutting Ceremony.
X-ALT-DESC;FMTTYPE=text/html:<a href="http://www.instagram.com/halfbakedcafeohio/"><span style="color: rgb(178\, 34\, 34)\;">Half Baked Cafe</span></a>&nbsp\;&nbsp\;is coming to Mount Vernon this Spring.&nbsp\; With a flare for new and different flavors\, Half Baked Cafe wants to change the way you think of a local bake shop.&nbsp\; Join us in welcoming this exciting new business with their Official Ribbon Cutting Ceremony.
LOCATION:3 West High Street\, Mount Vernon
UID:e.2893.4250
SEQUENCE:3
DTSTAMP:20260421T164844Z
URL:http://knoxchamber.smartcms.site/events/details/chamber-ribbon-cutting-ceremony-half-baked-cafe-4250
END:VEVENT

END:VCALENDAR
