BEGIN:VCALENDAR
VERSION:2.0
PRODID:-//ChamberMaster//Event Calendar 2.0//EN
METHOD:PUBLISH
X-PUBLISHED-TTL:P3D
REFRESH-INTERVAL:P3D
CALSCALE:GREGORIAN
BEGIN:VEVENT
DTSTART:20231018T163000Z
DTEND:20231018T173000Z
X-MICROSOFT-CDO-ALLDAYEVENT:FALSE
SUMMARY:CHAMBER: Ribbon Cutting at Weaver's Pretzel Shop at Walmart
DESCRIPTION:Weaver's Farm and Furniture located in Danville is opening their famous pretzel shop inside of Walmart located on Coshocton Avenue!\n\n\n\nAll are welcome to attend the ribbon cutting ceremony on Wednesday\, October 18\, 2023\, at 12:30 PM inside of Walmart. It will be in front of the checkout lanes.\n\n\n\nEveryone is welcome and they will share their amazing warm\, soft\, and delicious pretzels!
X-ALT-DESC;FMTTYPE=text/html:Weaver&#39\;s Farm and Furniture located in Danville is opening their famous pretzel shop inside of Walmart located on Coshocton Avenue!<br />\n<br />\nAll are welcome to attend the ribbon cutting ceremony on&nbsp\;<strong>Wednesday\, October 18\, 2023\, at 12:30 PM</strong>&nbsp\;inside of Walmart. It will be in front of the checkout lanes.<br />\n<br />\n<span style="font-size:16px\;"><span style="color:#8B4513\;"><strong>Everyone is welcome and they will share their amazing warm\, soft\, and delicious pretzels!</strong></span></span>
LOCATION:1575 Coshocton Avenue\, Mount Vernon\, Ohio. Located inside of Walmart at the front of the store.
UID:e.2893.8591
SEQUENCE:3
DTSTAMP:20260421T090039Z
URL:http://knoxchamber.smartcms.site/events/details/chamber-ribbon-cutting-at-weaver-s-pretzel-shop-at-walmart-8591
END:VEVENT

END:VCALENDAR
