BEGIN:VCALENDAR
VERSION:2.0
PRODID:-//ChamberMaster//Event Calendar 2.0//EN
METHOD:PUBLISH
X-PUBLISHED-TTL:P3D
REFRESH-INTERVAL:P3D
CALSCALE:GREGORIAN
BEGIN:VEVENT
DTSTART:20181213T210000Z
DTEND:20181214T000000Z
X-MICROSOFT-CDO-ALLDAYEVENT:FALSE
SUMMARY:CHAMBER: Ribbon Cutting at Moss Rose
DESCRIPTION:Join us for the Official Ribbon Cutting Ceremony at Moss Rose at 4:00 pm and please join them for Happy Hour til 7:00 pm. All are invited to attend the Ceremony\, and stay afterwards to have a drink and get to know the owners of Moss Rose!
X-ALT-DESC;FMTTYPE=text/html:Join us for the Official Ribbon Cutting Ceremony at <span style="color: rgb(128\, 0\, 0)\;"><strong><em>Moss Rose</em></strong></span>&nbsp\;at 4:00 pm and please join them for Happy Hour til 7:00 pm. All are invited to attend the Ceremony\, and stay afterwards to have a drink and get to know the owners of Moss Rose!
LOCATION:Moss Rose 109 West Ohio Avenue\, Mount Vernon
UID:e.2893.3852
SEQUENCE:3
DTSTAMP:20260421T213728Z
URL:http://knoxchamber.smartcms.site/events/details/chamber-ribbon-cutting-at-moss-rose-3852
END:VEVENT

END:VCALENDAR
