BEGIN:VCALENDAR
VERSION:2.0
PRODID:-//ChamberMaster//Event Calendar 2.0//EN
METHOD:PUBLISH
X-PUBLISHED-TTL:P3D
REFRESH-INTERVAL:P3D
CALSCALE:GREGORIAN
BEGIN:VEVENT
DTSTART:20190307T213000Z
DTEND:20190307T233000Z
X-MICROSOFT-CDO-ALLDAYEVENT:FALSE
SUMMARY:CHAMBER: Ribbon Cutting at Country Club Rehabilitation Center
DESCRIPTION:New!  15 private rooms for short-term therapy.  If you are recovering and need physical therapy\, come to Country Club Rehabilitation Center and be the first to visit these new rooms.\n\n\n\nSenator Andrew Brenner will join us for the ceremony.\n\n\n\nRibbon Cutting will take place at 4:30pm.  Open House will run until 6:30pm.  Appetizers and cocktails served.
X-ALT-DESC;FMTTYPE=text/html:<br />\n<span style="font-size: 18px\;">New!</span>&nbsp\; <strong>15 private rooms</strong> for short-term therapy.&nbsp\; If you are recovering and need physical therapy\, come to Country Club Rehabilitation Center and be the first to visit these new rooms.<br />\n<br />\nSenator Andrew Brenner will join us for the ceremony.<br />\n<br />\n<strong>Ribbon Cutting will take place at 4:30pm.&nbsp\; Open House will run until 6:30pm.&nbsp\; Appetizers and cocktails served.</strong><br />\n&nbsp\;
LOCATION:1350 Yauger Road\, Mount Vernon\, Ohio.
UID:e.2893.3882
SEQUENCE:3
DTSTAMP:20260421T170440Z
URL:http://knoxchamber.smartcms.site/events/details/chamber-ribbon-cutting-at-country-club-rehabilitation-center-3882
END:VEVENT

END:VCALENDAR
