BEGIN:VCALENDAR
VERSION:2.0
PRODID:-//ChamberMaster//Event Calendar 2.0//EN
METHOD:PUBLISH
X-PUBLISHED-TTL:P3D
REFRESH-INTERVAL:P3D
CALSCALE:GREGORIAN
BEGIN:VEVENT
DTSTART:20190620T160000Z
DTEND:20190620T170000Z
X-MICROSOFT-CDO-ALLDAYEVENT:FALSE
SUMMARY:CHAMBER Ribbon Cutting - ADA Accessible Kayak Launch
DESCRIPTION:Ariel Foundation Park partnered with Paddle For Heroes to build this kayak launch for all community members.  An ADA-accessible kayak launch essentially serves as an extension of a deck\, containing modifications (such as handles and steps) that help disabled kayakers get into their boat. Paddle for Heroes will demonstrate how to use the launch at this Official Ribbon Cutting Ceremony\, which will be located on the southeast side of Central Lake. This community effort will be celebrated and the public is welcome to attend!
X-ALT-DESC;FMTTYPE=text/html:Ariel Foundation Park partnered with Paddle For Heroes to build this kayak launch for all community members.&nbsp\;&nbsp\;<span style="color: rgb(68\, 68\, 68)\; font-family: Lato\, Helvetica\, Arial\, sans-serif\; background-color: rgb(255\, 255\, 255)\;">An ADA-accessible kayak launch essentially serves as an extension of a deck\, containing modifications (such as handles and steps) that help disabled kayakers get into their boat.<span style="font-size:12px\;">&nbsp\;</span></span><span style="font-size:12px\;"><span style="color: rgb(68\, 68\, 68)\; font-family: Lato\, Helvetica\, Arial\, sans-serif\; background-color: rgb(255\, 255\, 255)\;">Paddle for Heroes will demonstrate how to use the launch at this Official Ribbon Cutting Ceremony\, which will be located on the southeast side of Central Lake. This community effort will be celebrated and the public is welcome to attend!</span></span>
LOCATION:Ariel Foundation Park\, 10 Pittsburgh Avenue Southeast side of Central Lake
UID:e.2893.4304
SEQUENCE:3
DTSTAMP:20260421T103744Z
URL:http://knoxchamber.smartcms.site/events/details/chamber-ribbon-cutting-ada-accessible-kayak-launch-4304
END:VEVENT

END:VCALENDAR
