BEGIN:VCALENDAR
VERSION:2.0
PRODID:-//ChamberMaster//Event Calendar 2.0//EN
METHOD:PUBLISH
X-PUBLISHED-TTL:P3D
REFRESH-INTERVAL:P3D
CALSCALE:GREGORIAN
BEGIN:VEVENT
DTSTART:20180906T130000Z
DTEND:20180906T150000Z
X-MICROSOFT-CDO-ALLDAYEVENT:FALSE
SUMMARY:CHAMBER: Resilience Film - The Biology of Stress & the Science of Hope
DESCRIPTION:Two Showings!  9-11 a.m. or 1-3 p.m.\n\n\n\nThis film will deepen your understanding of trauma and what we can do together to build resilience throughout the community.\n\n\n\nThe film chronicles the birth of a new movement among pediatricians\, therapists\, educators\, and communities who are using cutting-edge brain science to disrupt cycles of violence\, addiction and disease.\n\n\n\nSponsored by the Knox County Commissioners\, Knox County Chamber of Commerce\, and the Resilience Team of Knox Health Planning Partnership.\n\n\n\nClick here to view invitation.
X-ALT-DESC;FMTTYPE=text/html:<span style="color:#800000\;"><strong>Two Showings!&nbsp\; 9-11 a.m. <u>or</u> 1-3 p.m.</strong></span><br />\n<br />\nThis film will deepen your understanding of trauma and what we can do together to build resilience throughout the community.<br />\n<br />\nThe film chronicles the birth of a new movement among pediatricians\, therapists\, educators\, and communities who are using cutting-edge brain science to disrupt cycles of violence\, addiction and disease.<br />\n<br />\nSponsored by the Knox County Commissioners\, Knox County Chamber of Commerce\, and the Resilience Team of Knox Health Planning Partnership.<br />\n<br />\n<strong><a href="https://chambermaster.blob.core.windows.net/userfiles/UserFiles/chambers/2893/File/Resilience.pdf"><span style="color:#800000\;">Click here to view invitation.</span></a></strong>
LOCATION:Memorial Theatre\, 112 East High Street Two Showings! 9:00am until 11:00am or 1:00pm until 3:00pm.
UID:e.2893.3765
SEQUENCE:3
DTSTAMP:20260422T024313Z
URL:http://knoxchamber.smartcms.site/events/details/chamber-resilience-film-the-biology-of-stress-the-science-of-hope-3765
END:VEVENT

END:VCALENDAR
