BEGIN:VCALENDAR
VERSION:2.0
PRODID:-//ChamberMaster//Event Calendar 2.0//EN
METHOD:PUBLISH
X-PUBLISHED-TTL:P3D
REFRESH-INTERVAL:P3D
CALSCALE:GREGORIAN
BEGIN:VEVENT
DTSTART;VALUE=DATE:20181122
DTEND;VALUE=DATE:20181124
TRANSP:TRANSPARENT
X-MICROSOFT-CDO-ALLDAYEVENT:TRUE
SUMMARY:Chamber of Commerce office closed in observance of Thanksgiving
DESCRIPTION:Chamber office will be closed to observe Thanksgiving
X-ALT-DESC;FMTTYPE=text/html:Chamber office will be closed to observe Thanksgiving
LOCATION:
UID:e.2893.3849
SEQUENCE:3
DTSTAMP:20260422T011206Z
URL:http://knoxchamber.smartcms.site/events/details/chamber-of-commerce-office-closed-in-observance-of-thanksgiving-3849
END:VEVENT

END:VCALENDAR
